BEGIN:VCALENDAR
VERSION:2.0
PRODID:-//H-E-B Newsroom - ECPv6.15.18//NONSGML v1.0//EN
CALSCALE:GREGORIAN
METHOD:PUBLISH
X-WR-CALNAME:H-E-B Newsroom
X-ORIGINAL-URL:https://newsroom.heb.com
X-WR-CALDESC:Events for H-E-B Newsroom
REFRESH-INTERVAL;VALUE=DURATION:PT1H
X-Robots-Tag:noindex
X-PUBLISHED-TTL:PT1H
BEGIN:VTIMEZONE
TZID:America/Chicago
BEGIN:DAYLIGHT
TZOFFSETFROM:-0600
TZOFFSETTO:-0500
TZNAME:CDT
DTSTART:20240310T080000
END:DAYLIGHT
BEGIN:STANDARD
TZOFFSETFROM:-0500
TZOFFSETTO:-0600
TZNAME:CST
DTSTART:20241103T070000
END:STANDARD
BEGIN:DAYLIGHT
TZOFFSETFROM:-0600
TZOFFSETTO:-0500
TZNAME:CDT
DTSTART:20250309T080000
END:DAYLIGHT
BEGIN:STANDARD
TZOFFSETFROM:-0500
TZOFFSETTO:-0600
TZNAME:CST
DTSTART:20251102T070000
END:STANDARD
BEGIN:DAYLIGHT
TZOFFSETFROM:-0600
TZOFFSETTO:-0500
TZNAME:CDT
DTSTART:20260308T080000
END:DAYLIGHT
BEGIN:STANDARD
TZOFFSETFROM:-0500
TZOFFSETTO:-0600
TZNAME:CST
DTSTART:20261101T070000
END:STANDARD
END:VTIMEZONE
BEGIN:VEVENT
DTSTART;TZID=America/Chicago:20250421T120000
DTEND;TZID=America/Chicago:20250421T160000
DTSTAMP:20260422T040401
CREATED:20250402T171721Z
LAST-MODIFIED:20250402T171721Z
UID:15979-1745236800-1745251200@newsroom.heb.com
SUMMARY:Waterloo Greenway: Our Texas\, Our Future Festival - (Austin)
DESCRIPTION:Our Texas\, Our Future Festival\n\nPresented by H-E-B \n\nLocation: Moody Amphitheater\, Waterloo Park\nDate: April 21\, 2024\nTime: 12:00 PM – 4:00 PM\n\n\n\n\n\n\n\n\n\n\n\n\n\n\n\n\n\n\n\n\n\n\n\nThis free festival is a celebration of Texas’ beautiful parks\, resilient wildlife\, and the Texans helping conserve & protect them for future generations. The festival will feature interactive exhibits\, wildlife demonstrations\, sustainability workshops\, guided garden tours\, and a variety of hands-on art and STEM workshops. \nEVENT HIGHLIGHTS \n\n12:30 PM – Storytime & Book Giveaway: The World’s Greatest Class Plant with author Liz Garton Scanlon\n1:15 PM – Our Texas\, Our Future: “A Century Celebration: Texas State Parks”\n2:00 PM – Our Texas\, Our Future: “Batsies” and “Redfish Revival”\n2:30 PM – Hill Country Garden Guided Tour: Native Plants & Pollinators\n3:00 PM – Our Texas\, Our Future: “Second Chances” and “Ranching with Ocelots”\n3:30 PM – Hill Country Garden Guided Tour:  Design Principles & Sustainability Practices\n\nUpon entry to the festival\, H-E-B encourages visitors to bring their plastic retail bags to recycle in the H-E-B bins. Visitors who bring plastic bags to recycle will be entered to win exciting prizes and gift cards from H-E-B\, Texas State Parks\, and Waterloo Greenway! \nLearn more
URL:https://newsroom.heb.com/event/waterloo-greenway-our-texas-our-future-festival-austin-2/
CATEGORIES:Main,Sustainability
ATTACH;FMTTYPE=image/jpeg:https://newsroom.heb.com/wp-content/uploads/2024/03/waterloo-hero.jpg
END:VEVENT
END:VCALENDAR