BEGIN:VCALENDAR
VERSION:2.0
PRODID:-//H-E-B Newsroom - ECPv6.15.18//NONSGML v1.0//EN
CALSCALE:GREGORIAN
METHOD:PUBLISH
X-WR-CALNAME:H-E-B Newsroom
X-ORIGINAL-URL:https://newsroom.heb.com
X-WR-CALDESC:Events for H-E-B Newsroom
REFRESH-INTERVAL;VALUE=DURATION:PT1H
X-Robots-Tag:noindex
X-PUBLISHED-TTL:PT1H
BEGIN:VTIMEZONE
TZID:America/Chicago
BEGIN:DAYLIGHT
TZOFFSETFROM:-0600
TZOFFSETTO:-0500
TZNAME:CDT
DTSTART:20240310T080000
END:DAYLIGHT
BEGIN:STANDARD
TZOFFSETFROM:-0500
TZOFFSETTO:-0600
TZNAME:CST
DTSTART:20241103T070000
END:STANDARD
BEGIN:DAYLIGHT
TZOFFSETFROM:-0600
TZOFFSETTO:-0500
TZNAME:CDT
DTSTART:20250309T080000
END:DAYLIGHT
BEGIN:STANDARD
TZOFFSETFROM:-0500
TZOFFSETTO:-0600
TZNAME:CST
DTSTART:20251102T070000
END:STANDARD
BEGIN:DAYLIGHT
TZOFFSETFROM:-0600
TZOFFSETTO:-0500
TZNAME:CDT
DTSTART:20260308T080000
END:DAYLIGHT
BEGIN:STANDARD
TZOFFSETFROM:-0500
TZOFFSETTO:-0600
TZNAME:CST
DTSTART:20261101T070000
END:STANDARD
END:VTIMEZONE
BEGIN:VEVENT
DTSTART;TZID=America/Chicago:20250509T060000
DTEND;TZID=America/Chicago:20250509T200000
DTSTAMP:20260421T111237
CREATED:20250507T140201Z
LAST-MODIFIED:20250507T140201Z
UID:16242-1746770400-1746820800@newsroom.heb.com
SUMMARY:Operation Appreciation: Military Spouse Appreciation Day - (Edinburg)
DESCRIPTION:To show our appreciation for all that you do\, we’re hosting a special day just for you. Enjoy pampering experiences like press-on manicures\, spa scrubs\, lash applications using H-E-B products\, and more. Complimentary refreshments will also be provided. \nWhere:\nDustin\, Michael\nSekula Library\n1906 S Closner Blvd\, Edinburg\, TX 78539
URL:https://newsroom.heb.com/event/operation-appreciation-military-spouse-appreciation-day-edinburg/
CATEGORIES:Main,Military
ATTACH;FMTTYPE=image/jpeg:https://newsroom.heb.com/wp-content/uploads/2025/05/H-E-B-OA-MSAD-Evite-Edinburg32-scaled.jpg
END:VEVENT
BEGIN:VEVENT
DTSTART;TZID=America/Chicago:20250509T090000
DTEND;TZID=America/Chicago:20250509T150000
DTSTAMP:20260421T111237
CREATED:20250423T143614Z
LAST-MODIFIED:20250423T143614Z
UID:16094-1746781200-1746802800@newsroom.heb.com
SUMMARY:H-E-B Operation Appreciation: Military Spouse Appreciation Day 2025
DESCRIPTION:To show our appreciation for all that you do\, we’re hosting a special day just for you. Enjoy pampering experiences like press-on manicures\, spa scrubs\, lash applications using H-E-B products\, and more. Complimentary refreshments will also be provided. \nWhere:\nLone Star Conference Center\nWainwright Dr\, Fort Cavazos\, TX 76544 \nPlease scan the QR code and register by May 5.  \n 
URL:https://newsroom.heb.com/event/h-e-b-operation-appreciation-military-spouse-appreciation-day-2025/
CATEGORIES:Main,Military
ATTACH;FMTTYPE=image/jpeg:https://newsroom.heb.com/wp-content/uploads/2025/04/OA-Military-Spouse-Appre-Day-2025-V5-scaled.jpg
END:VEVENT
BEGIN:VEVENT
DTSTART;TZID=America/Chicago:20250509T183000
DTEND;TZID=America/Chicago:20250509T203000
DTSTAMP:20260421T111237
CREATED:20250508T210609Z
LAST-MODIFIED:20250508T210609Z
UID:16246-1746815400-1746822600@newsroom.heb.com
SUMMARY:H-E-B Operation Appreciation: Military Spouses Appreciation Dinner Date
DESCRIPTION:
URL:https://newsroom.heb.com/event/h-e-b-operation-appreciation-military-spouses-appreciation-dinner-date/
CATEGORIES:Main,Military
ATTACH;FMTTYPE=image/png:https://newsroom.heb.com/wp-content/uploads/2025/05/Military-Spouse-Appreciation-Dinner-Date.png
END:VEVENT
END:VCALENDAR