BEGIN:VCALENDAR
VERSION:2.0
PRODID:-//H-E-B Newsroom - ECPv6.15.18//NONSGML v1.0//EN
CALSCALE:GREGORIAN
METHOD:PUBLISH
X-WR-CALNAME:H-E-B Newsroom
X-ORIGINAL-URL:https://newsroom.heb.com
X-WR-CALDESC:Events for H-E-B Newsroom
REFRESH-INTERVAL;VALUE=DURATION:PT1H
X-Robots-Tag:noindex
X-PUBLISHED-TTL:PT1H
BEGIN:VTIMEZONE
TZID:America/Chicago
BEGIN:DAYLIGHT
TZOFFSETFROM:-0600
TZOFFSETTO:-0500
TZNAME:CDT
DTSTART:20230312T080000
END:DAYLIGHT
BEGIN:STANDARD
TZOFFSETFROM:-0500
TZOFFSETTO:-0600
TZNAME:CST
DTSTART:20231105T070000
END:STANDARD
BEGIN:DAYLIGHT
TZOFFSETFROM:-0600
TZOFFSETTO:-0500
TZNAME:CDT
DTSTART:20240310T080000
END:DAYLIGHT
BEGIN:STANDARD
TZOFFSETFROM:-0500
TZOFFSETTO:-0600
TZNAME:CST
DTSTART:20241103T070000
END:STANDARD
BEGIN:DAYLIGHT
TZOFFSETFROM:-0600
TZOFFSETTO:-0500
TZNAME:CDT
DTSTART:20250309T080000
END:DAYLIGHT
BEGIN:STANDARD
TZOFFSETFROM:-0500
TZOFFSETTO:-0600
TZNAME:CST
DTSTART:20251102T070000
END:STANDARD
END:VTIMEZONE
BEGIN:VEVENT
DTSTART;VALUE=DATE:20240301
DTEND;VALUE=DATE:20240401
DTSTAMP:20260421T050304
CREATED:20240307T215418Z
LAST-MODIFIED:20240307T215418Z
UID:12626-1709251200-1711929599@newsroom.heb.com
SUMMARY:Texas A&M University - Corpus Christi: Woman's History Month
DESCRIPTION:The University will host various Women’s History Month events that I would like to share with you – sponsored by H-E-B. \nIn observance of Women’s History Month (March1-31)\, Texas A&M University-Corpus Christi is celebrating by hosting a variety of events on campus offering enriching conversations\, presentations\, and showcases that provide varied perspectives and contributions of Women to TAMU-CC\, the Coastal Bend\, and beyond. \nBrowse events
URL:https://newsroom.heb.com/event/texas-am-university-corpus-christi-womans-history-month/
CATEGORIES:Diversity & Inclusion,Main
ATTACH;FMTTYPE=image/jpeg:https://newsroom.heb.com/wp-content/uploads/2024/03/texas-a-m-university-corpus-christi-upgrades-with-shure-ulx-d_header.jpg
END:VEVENT
BEGIN:VEVENT
DTSTART;TZID=America/Chicago:20240304T080000
DTEND;TZID=America/Chicago:20240304T170000
DTSTAMP:20260421T050304
CREATED:20240304T154626Z
LAST-MODIFIED:20240304T154626Z
UID:12543-1709539200-1709571600@newsroom.heb.com
SUMMARY:Revival of Cultural Arts: Dia Internacional de la Mujer - (Brownsville)
DESCRIPTION:Revival of Cultural Arts (ROCA) is a non-profit organization whose mission is to create opportunities to engage the community to experience art\, music\, dance\, film\, community theater and cultural events with an emphasis on music\, visual and performing arts education. \n\n\n\n\nTogether\, alongside numerous community partners\, we will celebrate Día de la Mujer Internacional for the eighth year and third time at the Brownsville Events Center. \nWhen:  \nFriday\, March 8\, 2024\n9 a.m. – 2 p.m. \n\n\nLocation: \nBrownsville Events Center \n1 Event Center\, Paredes Line Rd\,\nBrownsville\, TX 78526
URL:https://newsroom.heb.com/event/revival-of-cultural-arts-dia-internacional-de-la-mujer-brownsville/
CATEGORIES:Diversity & Inclusion,Main
ATTACH;FMTTYPE=image/jpeg:https://newsroom.heb.com/wp-content/uploads/2024/03/DiaDeLaMujer2024-scaled.jpg
END:VEVENT
BEGIN:VEVENT
DTSTART;TZID=America/Chicago:20240308T193000
DTEND;TZID=America/Chicago:20240308T203000
DTSTAMP:20260421T050304
CREATED:20240304T155703Z
LAST-MODIFIED:20240304T155703Z
UID:12546-1709926200-1709929800@newsroom.heb.com
SUMMARY:Houston Grand Opra: Giving Voice - (Houston)
DESCRIPTION:On Friday\, March 8\, 2024\, Houston Grand Opera will stage the fifth annual Giving Voice concert in partnership with Wheeler Avenue Baptist Church. The concert will be presented at the historic Third Ward church for the second year running. \nThis year\, the Giving Voice concert series\, created in 2019 by American tenor Lawrence Brownlee\, will highlight the artistry and contributions of Black women in opera and the Houston community. The event\, to be held on International Women’s Day\, will also mark Women’s History Month\, which will be celebrated throughout March. \n\n\n\n\n\n\n\n\nHosted by ABC13 journalist and WABC congregant Melanie Lawson\, Giving Voice will feature arias sung by operatic soloists\, including mezzo-soprano and HGO honoree Marietta Simpson; Grammy Award-winning soprano Latonia Moore; tenor Limmie Pulliam; baritone Justin Austin; and two current members of HGO’s Butler Studio\, soprano Renée Richardson and tenor Demetrious Sampson\, Jr. \nThe concert will feature choral works by a mass choir of singers from WABC\, the Houston Ebony Opera Guild\, and HGO\, as well as a special performance from Houston’s emerging spiritual ensemble\, Voices of Houston. It will also bring the world premiere of songs by HGO Composer in Residence Joel Thompson. WABC will honor the First Ladies of the Church & Women’s Group from its Founding Congregation. \n\nLearn more
URL:https://newsroom.heb.com/event/houston-grand-opra-giving-voice-houston/
CATEGORIES:Diversity & Inclusion,Main
ATTACH;FMTTYPE=image/png:https://newsroom.heb.com/wp-content/uploads/2024/03/givingvoice-image.png
END:VEVENT
END:VCALENDAR