BEGIN:VCALENDAR
VERSION:2.0
PRODID:-//H-E-B Newsroom - ECPv6.15.18//NONSGML v1.0//EN
CALSCALE:GREGORIAN
METHOD:PUBLISH
X-WR-CALNAME:H-E-B Newsroom
X-ORIGINAL-URL:https://newsroom.heb.com
X-WR-CALDESC:Events for H-E-B Newsroom
REFRESH-INTERVAL;VALUE=DURATION:PT1H
X-Robots-Tag:noindex
X-PUBLISHED-TTL:PT1H
BEGIN:VTIMEZONE
TZID:America/Chicago
BEGIN:DAYLIGHT
TZOFFSETFROM:-0600
TZOFFSETTO:-0500
TZNAME:CDT
DTSTART:20230312T080000
END:DAYLIGHT
BEGIN:STANDARD
TZOFFSETFROM:-0500
TZOFFSETTO:-0600
TZNAME:CST
DTSTART:20231105T070000
END:STANDARD
BEGIN:DAYLIGHT
TZOFFSETFROM:-0600
TZOFFSETTO:-0500
TZNAME:CDT
DTSTART:20240310T080000
END:DAYLIGHT
BEGIN:STANDARD
TZOFFSETFROM:-0500
TZOFFSETTO:-0600
TZNAME:CST
DTSTART:20241103T070000
END:STANDARD
BEGIN:DAYLIGHT
TZOFFSETFROM:-0600
TZOFFSETTO:-0500
TZNAME:CDT
DTSTART:20250309T080000
END:DAYLIGHT
BEGIN:STANDARD
TZOFFSETFROM:-0500
TZOFFSETTO:-0600
TZNAME:CST
DTSTART:20251102T070000
END:STANDARD
END:VTIMEZONE
BEGIN:VEVENT
DTSTART;TZID=America/Chicago:20240427T073000
DTEND;TZID=America/Chicago:20240427T123000
DTSTAMP:20260423T053306
CREATED:20240402T193016Z
LAST-MODIFIED:20240402T193016Z
UID:12932-1714203000-1714221000@newsroom.heb.com
SUMMARY:BiG HEROES BiG Fun Run - (Laguna Vista)
DESCRIPTION:Join us as we help spread awareness and acceptance of individuals with autism! This event will take place in Laguna Vista\, Tx. \nMore information
URL:https://newsroom.heb.com/event/big-heroes-big-fun-run-laguna-vista/
CATEGORIES:Diversity & Inclusion,Main
ATTACH;FMTTYPE=image/png:https://newsroom.heb.com/wp-content/uploads/2024/04/Screenshot-2024-04-02-at-2.28.22 PM.png
END:VEVENT
BEGIN:VEVENT
DTSTART;TZID=America/Chicago:20240427T100000
DTEND;TZID=America/Chicago:20240427T110000
DTSTAMP:20260423T053306
CREATED:20240402T204101Z
LAST-MODIFIED:20240402T204120Z
UID:12943-1714212000-1714215600@newsroom.heb.com
SUMMARY:Asia Society of Texas: Wellness Series - Tibetan Meditation in the Gallery - (Houston)
DESCRIPTION:Join for an afternoon of meditation in the gallery. Instructor Alejandro Chaoul\, who has trained in Himalayan monasteries and in the West on Tibetan mind-body-spirit practices\, will guide the meditation in an immersive experience as participants find peace and fortitude through simple movements and sounds while surrounded by the art of Xu Bing: Word Alchemy. \nEnjoy the rest of the afternoon exploring the exhibition’s display of more than 50 of Xu Bing’s most important woodcut prints\, videos\, drawings\, installations\, and other ephemera. \nLearn more
URL:https://newsroom.heb.com/event/asia-society-of-texas-wellness-series-tibetan-meditation-in-the-gallery/
CATEGORIES:Diversity & Inclusion,Main
ATTACH;FMTTYPE=image/jpeg:https://newsroom.heb.com/wp-content/uploads/2024/04/5DSR6081-Edit.jpg
END:VEVENT
BEGIN:VEVENT
DTSTART;TZID=America/Chicago:20240427T103000
DTEND;TZID=America/Chicago:20240427T120000
DTSTAMP:20260423T053306
CREATED:20240402T204321Z
LAST-MODIFIED:20240402T204321Z
UID:12945-1714213800-1714219200@newsroom.heb.com
SUMMARY:Asia Society of Texas: Super Saturday - (Houston)
DESCRIPTION:Journey through Asia! On this Super Saturday\, join a Kids Quest: Explore Asia scavenger hunt as part of your Explore Asia admission. Take a guided tour showcasing the arts and cultures of China\, India\, Japan\, South Korea\, and Vietnam and conclude your quest with an all-ages activity. \nKids Quest tours begin at 10:30 a.m. and may be joined at any time. \nMore information
URL:https://newsroom.heb.com/event/asia-society-of-texas-super-saturday-houston/
CATEGORIES:Diversity & Inclusion,Main
ATTACH;FMTTYPE=image/jpeg:https://newsroom.heb.com/wp-content/uploads/2024/04/20240427_Super-Saturday-3x2-1.jpg
END:VEVENT
BEGIN:VEVENT
DTSTART;TZID=America/Chicago:20240427T130000
DTEND;TZID=America/Chicago:20240427T140000
DTSTAMP:20260423T053306
CREATED:20240402T204513Z
LAST-MODIFIED:20240402T204539Z
UID:12947-1714222800-1714226400@newsroom.heb.com
SUMMARY:Asia Society of Texas: Art Tour 'Xu Bing Word Alchemy' - (Houston)
DESCRIPTION:Xu Bing: Word Alchemy assembles more than 50 of Xu Bing’s most important woodcut prints\, videos\, drawings\, installations\, and other ephemera representing almost 50 years of the artist’s creative output. Starting with Xu’s early engagements with social realism and Western art historical traditions alike\, the exhibition charts the evolution of the artist’s linguistic experiments which challenge and expand not only the history of Chinese landscape painting\, but the canons of contemporary art. \nBorn in China and working in Brooklyn and Beijing\, Xu Bing is widely considered one of the most important artists from China in the 20th century. Focusing on the artist’s longstanding engagement with words and language\, Word Alchemy is the most comprehensive exhibition on this theme\, with around one-third of the objects being shown in the U.S. for the first time. Featured art works include Xu Bing’s early works\, never-before-exhibited notebooks\, landmark prints\, and pieces that include Square Word Calligraphy\, the writing system created by the artist to stylize written English as Chinese characters. \nMore information
URL:https://newsroom.heb.com/event/asia-society-of-texas-art-tour-xu-bing-word-alchemy-houston/
CATEGORIES:Diversity & Inclusion,Main
ATTACH;FMTTYPE=image/jpeg:https://newsroom.heb.com/wp-content/uploads/2024/04/06_Book-from-the-Ground-Pop-Up-Book-.jpg
END:VEVENT
END:VCALENDAR