BEGIN:VCALENDAR
VERSION:2.0
PRODID:-//H-E-B Newsroom - ECPv6.15.18//NONSGML v1.0//EN
CALSCALE:GREGORIAN
METHOD:PUBLISH
X-WR-CALNAME:H-E-B Newsroom
X-ORIGINAL-URL:https://newsroom.heb.com
X-WR-CALDESC:Events for H-E-B Newsroom
REFRESH-INTERVAL;VALUE=DURATION:PT1H
X-Robots-Tag:noindex
X-PUBLISHED-TTL:PT1H
BEGIN:VTIMEZONE
TZID:America/Chicago
BEGIN:DAYLIGHT
TZOFFSETFROM:-0600
TZOFFSETTO:-0500
TZNAME:CDT
DTSTART:20230312T080000
END:DAYLIGHT
BEGIN:STANDARD
TZOFFSETFROM:-0500
TZOFFSETTO:-0600
TZNAME:CST
DTSTART:20231105T070000
END:STANDARD
BEGIN:DAYLIGHT
TZOFFSETFROM:-0600
TZOFFSETTO:-0500
TZNAME:CDT
DTSTART:20240310T080000
END:DAYLIGHT
BEGIN:STANDARD
TZOFFSETFROM:-0500
TZOFFSETTO:-0600
TZNAME:CST
DTSTART:20241103T070000
END:STANDARD
BEGIN:DAYLIGHT
TZOFFSETFROM:-0600
TZOFFSETTO:-0500
TZNAME:CDT
DTSTART:20250309T080000
END:DAYLIGHT
BEGIN:STANDARD
TZOFFSETFROM:-0500
TZOFFSETTO:-0600
TZNAME:CST
DTSTART:20251102T070000
END:STANDARD
END:VTIMEZONE
BEGIN:VEVENT
DTSTART;TZID=America/Chicago:20240518T103000
DTEND;TZID=America/Chicago:20240518T153000
DTSTAMP:20260421T175119
CREATED:20240402T205945Z
LAST-MODIFIED:20240402T205945Z
UID:12961-1716028200-1716046200@newsroom.heb.com
SUMMARY:Asia Society of Texas: Super Saturday - (Houston)
DESCRIPTION:Morning Kids Quest\nJourney through Asia! Join a Kids Quest: Explore Asia scavenger hunt as part of your Explore Asia admission. Take a guided tour showcasing the arts and cultures of China\, India\, Japan\, South Korea\, and Vietnam and conclude your quest with an all-ages activity. \nKids Quest tours begin at 10:30 a.m. and may be joined at any time. \nAfternoon All-Ages Make and Take\nDive into hands-on fun at this All-Ages Make and Take workshop highlighting our exhibition Xu Bing: Word Alchemy! Learn to write using square word calligraphy — the innovative writing system created by artist Xu Bing to stylize written English as Chinese characters — plus\, craft a story on your own or as a group\, play a memory game\, and more. This family-friendly workshop is included in Explore Asia admission and is designed for all ages. \nMore information
URL:https://newsroom.heb.com/event/asia-society-of-texas-super-saturday-houston-3/
CATEGORIES:Diversity & Inclusion,Main
ATTACH;FMTTYPE=image/jpeg:https://newsroom.heb.com/wp-content/uploads/2024/04/20240518_Super-Saturday-3x2-1.jpg
END:VEVENT
BEGIN:VEVENT
DTSTART;TZID=America/Chicago:20240518T153000
DTEND;TZID=America/Chicago:20240518T210000
DTSTAMP:20260421T175119
CREATED:20240402T203523Z
LAST-MODIFIED:20240402T203542Z
UID:12941-1716046200-1716066000@newsroom.heb.com
SUMMARY:iFEST USA - (Houston)
DESCRIPTION:The International Festival of the United States of America\, known as iFest USA\, stands as the premier celebration of multiculturalism and diversity. It proudly hosts the renowned Joe Sample Sound stage and leads the National Celebration of The United Nations World Day for Cultural Diversity for Dialogue and Development alongside UNESCO. This vibrant festival serves as a catalyst for learning and exchanging information in the spirit of peace\, love\, and friendship. Renowned for its global reach\, iFEST USA stands as a pinnacle project promoting world geography\, traditions\, and cultures. Dedicated to nurturing understanding worldwide\, it provides a dynamic platform to share cultural legacies among a diverse global audience. Set in Houston\, Texas\, one of the nation’s most ethnically diverse regions\, this festival annually unites thousands of local\, national\, and international enthusiasts. Through exceptional exhibits and performances\, it showcases the rich tapestry of cultures and traditions represented by individuals from around the globe. \nLearn more
URL:https://newsroom.heb.com/event/ifest-usa-houston/
CATEGORIES:Diversity & Inclusion,Education & Arts,Main
ATTACH;FMTTYPE=image/png:https://newsroom.heb.com/wp-content/uploads/2024/04/Unknown-1.png
END:VEVENT
END:VCALENDAR