BEGIN:VCALENDAR
VERSION:2.0
PRODID:-//H-E-B Newsroom - ECPv6.15.18//NONSGML v1.0//EN
CALSCALE:GREGORIAN
METHOD:PUBLISH
X-WR-CALNAME:H-E-B Newsroom
X-ORIGINAL-URL:https://newsroom.heb.com
X-WR-CALDESC:Events for H-E-B Newsroom
REFRESH-INTERVAL;VALUE=DURATION:PT1H
X-Robots-Tag:noindex
X-PUBLISHED-TTL:PT1H
BEGIN:VTIMEZONE
TZID:America/Chicago
BEGIN:DAYLIGHT
TZOFFSETFROM:-0600
TZOFFSETTO:-0500
TZNAME:CDT
DTSTART:20230312T080000
END:DAYLIGHT
BEGIN:STANDARD
TZOFFSETFROM:-0500
TZOFFSETTO:-0600
TZNAME:CST
DTSTART:20231105T070000
END:STANDARD
BEGIN:DAYLIGHT
TZOFFSETFROM:-0600
TZOFFSETTO:-0500
TZNAME:CDT
DTSTART:20240310T080000
END:DAYLIGHT
BEGIN:STANDARD
TZOFFSETFROM:-0500
TZOFFSETTO:-0600
TZNAME:CST
DTSTART:20241103T070000
END:STANDARD
BEGIN:DAYLIGHT
TZOFFSETFROM:-0600
TZOFFSETTO:-0500
TZNAME:CDT
DTSTART:20250309T080000
END:DAYLIGHT
BEGIN:STANDARD
TZOFFSETFROM:-0500
TZOFFSETTO:-0600
TZNAME:CST
DTSTART:20251102T070000
END:STANDARD
END:VTIMEZONE
BEGIN:VEVENT
DTSTART;VALUE=DATE:20240525
DTEND;VALUE=DATE:20240526
DTSTAMP:20260424T065307
CREATED:20240506T162659Z
LAST-MODIFIED:20240506T162850Z
UID:13627-1716595200-1716681599@newsroom.heb.com
SUMMARY:Night Market - (Austin)
DESCRIPTION:About the Night Market\n\n\n\n\n\n\n\n\nWe’re bringing you an immersive\, story-driven Asian Night Market experience that promotes Central Texas AAPI businesses\, artists\, and performers and emphasizes the local Asian community’s strength\, courage\, creativity\, and innovation. \n\n\n\n\n\n\n\n\nAs an organizer of Night Market\, the Lunar Foundation’s mission is to make AAPI culture accessible to the broader Central Texas community and create cultural bridges between the diverse communities through the offerings of local AAPI organizations and businesses and AAPI celebrity amplification. \n\n\n\n\n\n\n\n\nThe Lunar Foundation\n\n\n\n\n\n\n\n\nAs an organizer of Night Market\, the Greater Austin Asian Chamber of Commerce is the leading partner for driving local economic growth for businesses with ties to Asia and Asian Americans. Their mission is to promote the Asian-Pacific American community and the community as a catalyst for local and global economic growth through advocacy\, connections\, and education. \nToday\, the Chamber represents over 260 local businesses serving 171\,000+ Asian Americans & Pacific Islanders in the Austin metropolitan area\, representing over 8.2% of the total population. \n\nLearn more
URL:https://newsroom.heb.com/event/night-market-austin/
CATEGORIES:Diversity & Inclusion,Main
ATTACH;FMTTYPE=image/png:https://newsroom.heb.com/wp-content/uploads/2024/05/Night-Market-event.png
END:VEVENT
END:VCALENDAR