BEGIN:VCALENDAR
VERSION:2.0
PRODID:-//H-E-B Newsroom - ECPv6.15.18//NONSGML v1.0//EN
CALSCALE:GREGORIAN
METHOD:PUBLISH
X-WR-CALNAME:H-E-B Newsroom
X-ORIGINAL-URL:https://newsroom.heb.com
X-WR-CALDESC:Events for H-E-B Newsroom
REFRESH-INTERVAL;VALUE=DURATION:PT1H
X-Robots-Tag:noindex
X-PUBLISHED-TTL:PT1H
BEGIN:VTIMEZONE
TZID:America/Chicago
BEGIN:DAYLIGHT
TZOFFSETFROM:-0600
TZOFFSETTO:-0500
TZNAME:CDT
DTSTART:20230312T080000
END:DAYLIGHT
BEGIN:STANDARD
TZOFFSETFROM:-0500
TZOFFSETTO:-0600
TZNAME:CST
DTSTART:20231105T070000
END:STANDARD
BEGIN:DAYLIGHT
TZOFFSETFROM:-0600
TZOFFSETTO:-0500
TZNAME:CDT
DTSTART:20240310T080000
END:DAYLIGHT
BEGIN:STANDARD
TZOFFSETFROM:-0500
TZOFFSETTO:-0600
TZNAME:CST
DTSTART:20241103T070000
END:STANDARD
BEGIN:DAYLIGHT
TZOFFSETFROM:-0600
TZOFFSETTO:-0500
TZNAME:CDT
DTSTART:20250309T080000
END:DAYLIGHT
BEGIN:STANDARD
TZOFFSETFROM:-0500
TZOFFSETTO:-0600
TZNAME:CST
DTSTART:20251102T070000
END:STANDARD
END:VTIMEZONE
BEGIN:VEVENT
DTSTART;VALUE=DATE:20240609
DTEND;VALUE=DATE:20240621
DTSTAMP:20260422T005546
CREATED:20240612T160152Z
LAST-MODIFIED:20240619T133654Z
UID:14176-1717891200-1718927999@newsroom.heb.com
SUMMARY:Juneteenth Celebration: Tabphe 2024 Calendar
DESCRIPTION:More info
URL:https://newsroom.heb.com/event/juneteenth-celebration-tabphe-calendar/
CATEGORIES:Diversity & Inclusion,Main
ATTACH;FMTTYPE=image/jpeg:https://newsroom.heb.com/wp-content/uploads/2024/06/Juneteenth-Tabphe.jpeg
END:VEVENT
BEGIN:VEVENT
DTSTART;TZID=America/Chicago:20240609T160000
DTEND;TZID=America/Chicago:20240609T190000
DTSTAMP:20260422T005546
CREATED:20240612T162723Z
LAST-MODIFIED:20240612T162723Z
UID:14181-1717948800-1717959600@newsroom.heb.com
SUMMARY:Corpus Christi 10 Days of Jubilee Juneteenth Kickoff
DESCRIPTION:Learn more
URL:https://newsroom.heb.com/event/corpus-christi-10-days-of-jubilee-juneteenth-kickoff/
CATEGORIES:Diversity & Inclusion,Main
ATTACH;FMTTYPE=image/jpeg:https://newsroom.heb.com/wp-content/uploads/2024/06/CC-JUBILEE-JUNETEENTH.jpeg
END:VEVENT
END:VCALENDAR