BEGIN:VCALENDAR
VERSION:2.0
PRODID:-//H-E-B Newsroom - ECPv6.15.18//NONSGML v1.0//EN
CALSCALE:GREGORIAN
METHOD:PUBLISH
X-WR-CALNAME:H-E-B Newsroom
X-ORIGINAL-URL:https://newsroom.heb.com
X-WR-CALDESC:Events for H-E-B Newsroom
REFRESH-INTERVAL;VALUE=DURATION:PT1H
X-Robots-Tag:noindex
X-PUBLISHED-TTL:PT1H
BEGIN:VTIMEZONE
TZID:America/Chicago
BEGIN:DAYLIGHT
TZOFFSETFROM:-0600
TZOFFSETTO:-0500
TZNAME:CDT
DTSTART:20250309T080000
END:DAYLIGHT
BEGIN:STANDARD
TZOFFSETFROM:-0500
TZOFFSETTO:-0600
TZNAME:CST
DTSTART:20251102T070000
END:STANDARD
BEGIN:DAYLIGHT
TZOFFSETFROM:-0600
TZOFFSETTO:-0500
TZNAME:CDT
DTSTART:20260308T080000
END:DAYLIGHT
BEGIN:STANDARD
TZOFFSETFROM:-0500
TZOFFSETTO:-0600
TZNAME:CST
DTSTART:20261101T070000
END:STANDARD
BEGIN:DAYLIGHT
TZOFFSETFROM:-0600
TZOFFSETTO:-0500
TZNAME:CDT
DTSTART:20270314T080000
END:DAYLIGHT
BEGIN:STANDARD
TZOFFSETFROM:-0500
TZOFFSETTO:-0600
TZNAME:CST
DTSTART:20271107T070000
END:STANDARD
END:VTIMEZONE
BEGIN:VEVENT
DTSTART;TZID=America/Chicago:20260711T100000
DTEND;TZID=America/Chicago:20260711T110000
DTSTAMP:20260420T084151
CREATED:20260119T160547Z
LAST-MODIFIED:20260119T160619Z
UID:18065-1783764000-1783767600@newsroom.heb.com
SUMMARY:Wellness at the Tobin: Reset & Recovery Yoga  - (San Antonio)
DESCRIPTION:Reset & Recovery Yoga | Wellness at the Tobin\nwith Mobile Om Second Saturday of every month\, 10–11 AM \nFREE COMMUNITY EVENT SPONSORED BY H-E-B and UNIVERSITY HEALTH\nTake time to unwind and reconnect with your body. Stretch & Reset Recovery is a 60-minute\, low-impact yoga and stretching class designed to support relaxation\, flexibility\, and overall well-being. Through gentle movement and mindful breathing\, this session helps ease tension\, improve mobility\, and leave you feeling restored. Beginner-friendly and suitable for all ages and skill levels\, the class offers modifications so everyone can move at their own pace and comfort level. \nDuration: 60 minutes \nWhere: Will Naylor Riverwalk Plaza at The Tobin Center (weather permitting; indoor location TBA during inclement weather).What to Bring/Wear: A yoga mat or towel\, comfortable clothing you can stretch in\, and water to stay hydrated. \nFree Parking: Free parking is available from 9:30 AM to 11:30 AM in the surface lot located at the corner of 4th Street and Auditorium Circle (142 Auditorium Circle). Additional street parking may be available. \nEnjoy a restorative start to your weekend as you slow down\, move with intention\, and connect with your community
URL:https://newsroom.heb.com/event/wellness-at-the-tobin-reset-recovery-yoga-san-antonio/2026-07-11/
CATEGORIES:Education & Arts,Main
ATTACH;FMTTYPE=image/jpeg:https://newsroom.heb.com/wp-content/uploads/2026/01/Tobin-Hero.jpg
END:VEVENT
BEGIN:VEVENT
DTSTART;TZID=America/Chicago:20260711T180000
DTEND;TZID=America/Chicago:20260711T190000
DTSTAMP:20260420T084151
CREATED:20260119T170310Z
LAST-MODIFIED:20260119T170310Z
UID:18106-1783792800-1783796400@newsroom.heb.com
SUMMARY:Tobin Center | H-E-B Cinema: Wayne's World - (San Antonio)
DESCRIPTION:2026 H-E-B Cinema on Will’s Plaza\nSecond SATURDAYS \nPlaza opens at 6:00PM\nMovie begins at 7:00PM \nMovie: Wayne’s World (1992) Rated PG-13 · 1h 34m\nDate: Saturday\, July 11 \nA big screen spin-off of the “Saturday Night Live” skit. Rob Lowe plays a producer that wants to take the public access “Wayne’s World” to the world of commercial television. Wayne (Mike Myers) and Garth (Dana Carvey) battle to save their show and Wayne’s girlfriend from Lowe.
URL:https://newsroom.heb.com/event/tobin-center-h-e-b-cinema-waynes-world-san-antonio/
CATEGORIES:Education & Arts,Main
ATTACH;FMTTYPE=image/jpeg:https://newsroom.heb.com/wp-content/uploads/2026/01/cowp_tc_hero.jpeg
END:VEVENT
END:VCALENDAR