BEGIN:VCALENDAR
VERSION:2.0
PRODID:-//H-E-B Newsroom - ECPv6.15.18//NONSGML v1.0//EN
CALSCALE:GREGORIAN
METHOD:PUBLISH
X-WR-CALNAME:H-E-B Newsroom
X-ORIGINAL-URL:https://newsroom.heb.com
X-WR-CALDESC:Events for H-E-B Newsroom
REFRESH-INTERVAL;VALUE=DURATION:PT1H
X-Robots-Tag:noindex
X-PUBLISHED-TTL:PT1H
BEGIN:VTIMEZONE
TZID:America/Chicago
BEGIN:DAYLIGHT
TZOFFSETFROM:-0600
TZOFFSETTO:-0500
TZNAME:CDT
DTSTART:20240310T080000
END:DAYLIGHT
BEGIN:STANDARD
TZOFFSETFROM:-0500
TZOFFSETTO:-0600
TZNAME:CST
DTSTART:20241103T070000
END:STANDARD
BEGIN:DAYLIGHT
TZOFFSETFROM:-0600
TZOFFSETTO:-0500
TZNAME:CDT
DTSTART:20250309T080000
END:DAYLIGHT
BEGIN:STANDARD
TZOFFSETFROM:-0500
TZOFFSETTO:-0600
TZNAME:CST
DTSTART:20251102T070000
END:STANDARD
BEGIN:DAYLIGHT
TZOFFSETFROM:-0600
TZOFFSETTO:-0500
TZNAME:CDT
DTSTART:20260308T080000
END:DAYLIGHT
BEGIN:STANDARD
TZOFFSETFROM:-0500
TZOFFSETTO:-0600
TZNAME:CST
DTSTART:20261101T070000
END:STANDARD
END:VTIMEZONE
BEGIN:VEVENT
DTSTART;TZID=America/Chicago:20250123T103000
DTEND;TZID=America/Chicago:20250123T113000
DTSTAMP:20260421T123923
CREATED:20241216T182444Z
LAST-MODIFIED:20241216T182852Z
UID:15383-1737628200-1737631800@newsroom.heb.com
SUMMARY:Bullock Museum: Little Texans - (Austin)
DESCRIPTION:Learn about fruit grown in Texas through hands-on crafts and activities for ages 2–5.\nLearn about the Texas state fruit\, the red grapefruit\, and other fruit grown in Texas with H-E-B Fresh Produce Buyer\, John Baillie\, followed by a grapefruit tasting\, citrus stamping activity\, citrus crafts\, and sensory stations. Join us for this hands-on program incorporating movement\, play\, and tactile learning into engaging experiences where younger children (ages 2–5) discover something new alongside their caregivers. \nThis program is FREE for Members or with Museum admission. \nLearn more
URL:https://newsroom.heb.com/event/bullock-museum-little-texans-austin/
CATEGORIES:Education & Arts,Main
ATTACH;FMTTYPE=image/jpeg:https://newsroom.heb.com/wp-content/uploads/2024/12/little-texans-secondary-15.jpg
END:VEVENT
END:VCALENDAR