BEGIN:VCALENDAR
VERSION:2.0
PRODID:-//H-E-B Newsroom - ECPv6.15.18//NONSGML v1.0//EN
CALSCALE:GREGORIAN
METHOD:PUBLISH
X-ORIGINAL-URL:https://newsroom.heb.com
X-WR-CALDESC:Events for H-E-B Newsroom
REFRESH-INTERVAL;VALUE=DURATION:PT1H
X-Robots-Tag:noindex
X-PUBLISHED-TTL:PT1H
BEGIN:VTIMEZONE
TZID:America/Chicago
BEGIN:DAYLIGHT
TZOFFSETFROM:-0600
TZOFFSETTO:-0500
TZNAME:CDT
DTSTART:20240310T080000
END:DAYLIGHT
BEGIN:STANDARD
TZOFFSETFROM:-0500
TZOFFSETTO:-0600
TZNAME:CST
DTSTART:20241103T070000
END:STANDARD
BEGIN:DAYLIGHT
TZOFFSETFROM:-0600
TZOFFSETTO:-0500
TZNAME:CDT
DTSTART:20250309T080000
END:DAYLIGHT
BEGIN:STANDARD
TZOFFSETFROM:-0500
TZOFFSETTO:-0600
TZNAME:CST
DTSTART:20251102T070000
END:STANDARD
BEGIN:DAYLIGHT
TZOFFSETFROM:-0600
TZOFFSETTO:-0500
TZNAME:CDT
DTSTART:20260308T080000
END:DAYLIGHT
BEGIN:STANDARD
TZOFFSETFROM:-0500
TZOFFSETTO:-0600
TZNAME:CST
DTSTART:20261101T070000
END:STANDARD
END:VTIMEZONE
BEGIN:VEVENT
DTSTART;VALUE=DATE:20250127
DTEND;VALUE=DATE:20250223
DTSTAMP:20260421T080500
CREATED:20250127T212217Z
LAST-MODIFIED:20250127T212217Z
UID:15597-1737936000-1740268799@newsroom.heb.com
SUMMARY:San Antonio Art League + Museum: The 95th Annual Juried Artists Exhibition
DESCRIPTION:CALL FOR ENTRY!\nThe Art League’s 95th Annual Juried Exhibition \nOne of the State’s oldest juried arts competitions is open for entry submissions.\nMore than $10\,000 in awards will be presented to the winning artists. \nThis exhibition is the 95th open event of San Antonio Art League and Museum (SAAL+M) in its 112 years of establishment. This event grew out of the fabled Edgar B. Davis Competitions of the late 1920s. Catalogs of the work will be available at the reception. \nPresented by The San Antonio Art League & Museum\n130 King William Street – SAT 78204 \nDOWNLOAD THE COMPLETE PROSPECTUS HERE \nLearn more
URL:https://newsroom.heb.com/event/san-antonio-art-league-museum-the-95th-annual-juried-artists-exhibition/
CATEGORIES:Education & Arts,Main
ATTACH;FMTTYPE=image/jpeg:https://newsroom.heb.com/wp-content/uploads/2025/01/95th-Artleaguemuseum.jpg
END:VEVENT
BEGIN:VEVENT
DTSTART;VALUE=DATE:20250131
DTEND;VALUE=DATE:20250203
DTSTAMP:20260421T080500
CREATED:20241218T154550Z
LAST-MODIFIED:20241218T154550Z
UID:15397-1738281600-1738540799@newsroom.heb.com
SUMMARY:Bullock Museum: Wizard of Oz 3D - (Austin)
DESCRIPTION:Go “Over the Rainbow” in 3D on a screen the size of Texas!\nWhen a tornado rips through Kansas\, Dorothy (Judy Garland) and her dog\, Toto\, are whisked away in their house to the magical land of Oz. After meeting Glinda the Good Witch (Billie Burke) and being threatened by the Wicked Witch of the West (Margaret Hamilton)\, Dorothy must travel the Yellow Brick Road to the Emerald City to ask the Wizard to send her home. Along the way\, she meets a Scarecrow\, a Tin Man\, and a Cowardly Lion\, who have their own wishes they want the Wizard to grant. \nCelebrate more than 85 years of one of the most beloved films of all time in an unforgettable IMAX 3D experience. \nLearn more
URL:https://newsroom.heb.com/event/bullock-museum-wizard-of-oz-3d-austin/
CATEGORIES:Education & Arts,Main
ATTACH;FMTTYPE=image/jpeg:https://newsroom.heb.com/wp-content/uploads/2024/12/wizard-of-oz-secondary.jpg
END:VEVENT
END:VCALENDAR