BEGIN:VCALENDAR
VERSION:2.0
PRODID:-//H-E-B Newsroom - ECPv6.15.18//NONSGML v1.0//EN
CALSCALE:GREGORIAN
METHOD:PUBLISH
X-ORIGINAL-URL:https://newsroom.heb.com
X-WR-CALDESC:Events for H-E-B Newsroom
REFRESH-INTERVAL;VALUE=DURATION:PT1H
X-Robots-Tag:noindex
X-PUBLISHED-TTL:PT1H
BEGIN:VTIMEZONE
TZID:America/Chicago
BEGIN:DAYLIGHT
TZOFFSETFROM:-0600
TZOFFSETTO:-0500
TZNAME:CDT
DTSTART:20240310T080000
END:DAYLIGHT
BEGIN:STANDARD
TZOFFSETFROM:-0500
TZOFFSETTO:-0600
TZNAME:CST
DTSTART:20241103T070000
END:STANDARD
BEGIN:DAYLIGHT
TZOFFSETFROM:-0600
TZOFFSETTO:-0500
TZNAME:CDT
DTSTART:20250309T080000
END:DAYLIGHT
BEGIN:STANDARD
TZOFFSETFROM:-0500
TZOFFSETTO:-0600
TZNAME:CST
DTSTART:20251102T070000
END:STANDARD
BEGIN:DAYLIGHT
TZOFFSETFROM:-0600
TZOFFSETTO:-0500
TZNAME:CDT
DTSTART:20260308T080000
END:DAYLIGHT
BEGIN:STANDARD
TZOFFSETFROM:-0500
TZOFFSETTO:-0600
TZNAME:CST
DTSTART:20261101T070000
END:STANDARD
END:VTIMEZONE
BEGIN:VEVENT
DTSTART;VALUE=DATE:20250314
DTEND;VALUE=DATE:20250316
DTSTAMP:20260421T082824
CREATED:20250127T170442Z
LAST-MODIFIED:20250127T170456Z
UID:15563-1741910400-1742083199@newsroom.heb.com
SUMMARY:Viva Aztlan Festival - (Lubbock)
DESCRIPTION:The Fiesta Del Llano\, Inc. proudly presents the largest Folklórico Festival and Showcase in the Texas Panhandle\, hosted right here in Lubbock\, Texas\, on March 14-15th. This two-day event celebrates the vibrant traditions of Mexican and Mestizo culture through immersive workshops and unforgettable performances.\n  \nThe festival features workshops for both Folklórico dancers and Mariachi students\, welcoming participants from across West Texas and surrounding states. These workshops are taught by highly skilled instructors\, offering a unique opportunity for students to enhance their artistic talents and deepen their appreciation of traditional Mexican performing arts.\n  \n**Event Highlights: **\n– **Workshops**:\n– Friday\, March 14th: 8:30 AM – 4:00 PM\n– Saturday\, March 15th: 8:30 AM – 1:30 PM\nParticipants will refine their skills in Folklórico dance and Mariachi music under the guidance of experienced professionals.\n  \n– **Student Showcase**:\nOn Saturday afternoon\, the event will culminate with an inspiring student showcase\, where participants will have the opportunity to perform and share their newly honed talents.\n  \n– **Mariachi Concert**:\n\nClosing out the festival\, a spectacular concert will be performed by the renowned professional Mariachi group *Los Caporales* from San Antonio\, Texas. This concert promises to be an unforgettable celebration of music\, culture\, and tradition. \nWhere: \n\n\n\nLubbock Memorial Civic Center\n1501 Mac Davis Ln\, Lubbock\, TX 79401\n\n\n\n\n\nLearn more
URL:https://newsroom.heb.com/event/viva-aztlan-festival-lubbock/
CATEGORIES:Diversity & Inclusion,Main
ATTACH;FMTTYPE=image/jpeg:https://newsroom.heb.com/wp-content/uploads/2025/01/Viva-Aztlan.jpg
END:VEVENT
BEGIN:VEVENT
DTSTART;VALUE=DATE:20250314
DTEND;VALUE=DATE:20250318
DTSTAMP:20260421T082824
CREATED:20250226T182421Z
LAST-MODIFIED:20250226T182723Z
UID:15764-1741910400-1742255999@newsroom.heb.com
SUMMARY:Bullock Museum: Spring Break Trains at the Bullock - (Austin)
DESCRIPTION:Explore the world of trains over Spring Break at the Bullock Museum. \nEvent Details: \nHear train whistles blow and axles grind as Tinplate Trackers of Austin and the Austin Model Railway Society’s miniature locomotives chug along tiny rails set in intricate scenes. \nThe model train display and demonstrations are free with Museum admission and will be on view daily from Friday\, March 14th through Monday\, March 17th from 11 a.m. to 4 p.m. \nAbout the Partners: \nThe Tinplate Trackers of Austin\, Texas is a 3-rail O-Gauge Model Train Club located in the Austin area. The club participates in a number of model railroading activities and events in Central Texas. \nAustin Model Railway Society is an HO scale model railroad club located in the Austin area. They welcome all who share a love for trains to visit or become a member. Their 51×24 foot modular layout features the Austin area. \nAbout Family Programs: \nFamily programs provide educational and engaging activities for young Texans and their caregivers. Events are designed to bring families together\, spark conversations and provide opportunities for growth and development. \nYour Support Matters:\nEvery donation directly supports our ability to provide our communities with outstanding opportunities that educate\, engage\, and encourage a deeper understanding of Texas. Support our future with a tax-deductible donation. \nEnjoy discounts\, exclusive programs\, free access to exhibitions year-round\, and much more by becoming a Member of the Bullock Museum. \nThe Bullock Museum\, a division of the Texas State Preservation Board\, is funded by Museum Members\, donors\, and patrons\, the Texas State History Museum Foundation\, and the State of Texas. \nLearn more
URL:https://newsroom.heb.com/event/bullock-museum-spring-break-trains-at-the-bullock-austin/
CATEGORIES:Education & Arts,Main
ATTACH;FMTTYPE=image/jpeg:https://newsroom.heb.com/wp-content/uploads/2024/03/bullock-exterior.jpg
END:VEVENT
END:VCALENDAR