BEGIN:VCALENDAR
VERSION:2.0
PRODID:-//H-E-B Newsroom - ECPv6.15.18//NONSGML v1.0//EN
CALSCALE:GREGORIAN
METHOD:PUBLISH
X-WR-CALNAME:H-E-B Newsroom
X-ORIGINAL-URL:https://newsroom.heb.com
X-WR-CALDESC:Events for H-E-B Newsroom
REFRESH-INTERVAL;VALUE=DURATION:PT1H
X-Robots-Tag:noindex
X-PUBLISHED-TTL:PT1H
BEGIN:VTIMEZONE
TZID:America/Chicago
BEGIN:DAYLIGHT
TZOFFSETFROM:-0600
TZOFFSETTO:-0500
TZNAME:CDT
DTSTART:20240310T080000
END:DAYLIGHT
BEGIN:STANDARD
TZOFFSETFROM:-0500
TZOFFSETTO:-0600
TZNAME:CST
DTSTART:20241103T070000
END:STANDARD
BEGIN:DAYLIGHT
TZOFFSETFROM:-0600
TZOFFSETTO:-0500
TZNAME:CDT
DTSTART:20250309T080000
END:DAYLIGHT
BEGIN:STANDARD
TZOFFSETFROM:-0500
TZOFFSETTO:-0600
TZNAME:CST
DTSTART:20251102T070000
END:STANDARD
BEGIN:DAYLIGHT
TZOFFSETFROM:-0600
TZOFFSETTO:-0500
TZNAME:CDT
DTSTART:20260308T080000
END:DAYLIGHT
BEGIN:STANDARD
TZOFFSETFROM:-0500
TZOFFSETTO:-0600
TZNAME:CST
DTSTART:20261101T070000
END:STANDARD
END:VTIMEZONE
BEGIN:VEVENT
DTSTART;TZID=America/Chicago:20250318T080000
DTEND;TZID=America/Chicago:20250318T170000
DTSTAMP:20260423T103857
CREATED:20250318T174708Z
LAST-MODIFIED:20250318T174708Z
UID:15825-1742284800-1742317200@newsroom.heb.com
SUMMARY:City of Windcrest: 4th of July Parade and Celebration - (San Antonio)
DESCRIPTION:Event Details\n\nDATE: Thursday\, July 4\, 2024\nTIME: 10:00 AM\nLOCATION: Windcrest City Hall Parking Lot\, 8601 Midcrown Dr.\n\nJoin your community and celebrate the 4th of July with the City of Windcrest’s Annual 4th of July Parade. The festival will kick off with a greeting from our Mayor\, Dan Reese\, the Pledge\, and a Presentation of Colors. The parade will begin right after our opening ceremony. The parade starts at City Hall and will make its way around the Windcrest Golf Course. The party will then start at the City Hall Parking lot with food\, vendors\, games\, and lots of fun.  \nParticipant or Vendor Interest\nIf you are interested in participating in the parade or becoming a vendor\, please complete the Participant/Vendor Interest Form.  Registration for the July\,  24\, 2024 event is closed. \nBe a part of our parade and participate in our contest.  Judging will be on the following categories: Best Group/Organization Represented/Best Decorated Car/Best Decorated Float/Most Spirited and Best Patriotic Pet ! \nAll vendors will also need to get a temporary permit by filling out this Temporary Food/Vendor Permit Application. All vendor fees will be waived for this event.  Applications for the July 4\, 2023 event is closed\, \nFood Vendors will be required to get a temporary food permit. To get a permit you must have a Sales Tax Certificate\, a Food Handlers Certificate\, and a form of ID. \nCraft Vendors are also required to get a temporary permit. Please complete the same Temporary Food Permit application\, indicating yourself as a “Craft Vendor” where applicable in areas that ask for food information. \nFood and Craft Vendors will be provided with a 10’x10′ area. Vendors must bring their own canopy\, table\, and chairs. Electrical connections are limited\, we will try to accommodate as many vendors as possible. We recommend you bring your own electrical source if possible. Vendors can begin setting up on July 3rd and must be set up by 8:00 AM on July 4th. \nPlease send your completed Temporary Permit application and a copy of your driver’s license/ID to permits@windcrest-tx.gov or bring them by the City Hall at 8601 Midcrown Dr.\nLearn more
URL:https://newsroom.heb.com/event/city-of-windcrest-4th-of-july-parade-and-celebration-san-antonio/
CATEGORIES:Main
ATTACH;FMTTYPE=image/jpeg:https://newsroom.heb.com/wp-content/uploads/2025/03/CityofWindcrest-scaled.jpeg
END:VEVENT
END:VCALENDAR