BEGIN:VCALENDAR
VERSION:2.0
PRODID:-//H-E-B Newsroom - ECPv6.15.18//NONSGML v1.0//EN
CALSCALE:GREGORIAN
METHOD:PUBLISH
X-WR-CALNAME:H-E-B Newsroom
X-ORIGINAL-URL:https://newsroom.heb.com
X-WR-CALDESC:Events for H-E-B Newsroom
REFRESH-INTERVAL;VALUE=DURATION:PT1H
X-Robots-Tag:noindex
X-PUBLISHED-TTL:PT1H
BEGIN:VTIMEZONE
TZID:America/Chicago
BEGIN:DAYLIGHT
TZOFFSETFROM:-0600
TZOFFSETTO:-0500
TZNAME:CDT
DTSTART:20240310T080000
END:DAYLIGHT
BEGIN:STANDARD
TZOFFSETFROM:-0500
TZOFFSETTO:-0600
TZNAME:CST
DTSTART:20241103T070000
END:STANDARD
BEGIN:DAYLIGHT
TZOFFSETFROM:-0600
TZOFFSETTO:-0500
TZNAME:CDT
DTSTART:20250309T080000
END:DAYLIGHT
BEGIN:STANDARD
TZOFFSETFROM:-0500
TZOFFSETTO:-0600
TZNAME:CST
DTSTART:20251102T070000
END:STANDARD
BEGIN:DAYLIGHT
TZOFFSETFROM:-0600
TZOFFSETTO:-0500
TZNAME:CDT
DTSTART:20260308T080000
END:DAYLIGHT
BEGIN:STANDARD
TZOFFSETFROM:-0500
TZOFFSETTO:-0600
TZNAME:CST
DTSTART:20261101T070000
END:STANDARD
END:VTIMEZONE
BEGIN:VEVENT
DTSTART;TZID=America/Chicago:20250322T083000
DTEND;TZID=America/Chicago:20250322T110000
DTSTAMP:20260421T143831
CREATED:20250210T192721Z
LAST-MODIFIED:20250210T193027Z
UID:15688-1742632200-1742641200@newsroom.heb.com
SUMMARY:Walk MS - (San Antonio)
DESCRIPTION:Experience the Power of the MS Movement \nCentered around the theme of Circles of Support\, the Walk MS® experience emphasizes the people and organizations that help improve a person’s life with MS. At the same time\, we move together toward a world free of MS. Everyone at Walk MS plays a powerful role in the MS community\, whether you live with MS or care about someone who does. \nCircles of Support is an interactive way for you to self-identify your place in the MS community. \nDate & Location\nSaturday\, March 22\, 2025 \nMorgan’s Wonderland\n5223 Dave Edwards Dr\nSan Antonio\, TX 78233 \nRoutes\n1 Mile Route\n3 Mile Route \nAll routes are accessible\, and mobility devices are welcome. \nSchedule\nSite Opens: 8:30 am\nCeremony Starts: 9:15 am\nWalk Kickoff: 9:30 am
URL:https://newsroom.heb.com/event/walk-ms-san-antonio/
CATEGORIES:Diversity & Inclusion,Education & Arts,Main
ATTACH;FMTTYPE=image/jpeg:https://newsroom.heb.com/wp-content/uploads/2025/02/walk-ms-dark-e5e13c7509.jpg
END:VEVENT
BEGIN:VEVENT
DTSTART;TZID=America/Chicago:20250322T130000
DTEND;TZID=America/Chicago:20250322T160000
DTSTAMP:20260421T143831
CREATED:20250319T192213Z
LAST-MODIFIED:20250319T192213Z
UID:15851-1742648400-1742659200@newsroom.heb.com
SUMMARY:Gardopia Gardens: Spring Equinox Farmers Market - (San Antonio)
DESCRIPTION:Celebrate the arrival of spring at our Spring Equinox Farmers Market in the garden! Join us for a vibrant gathering featuring free produce\, local artisanal goods\, and handmade crafts. Enjoy live music\, a cooking demosration\, and family-friendly activities\, all set in the beauty of nature. Embrace the season of renewal while supporting local vendros—it’s the perfect way to welcome longer days and warmer weather! \nLearn more
URL:https://newsroom.heb.com/event/gardopia-gardens-spring-equinox-farmers-market-san-antonio/
CATEGORIES:Main,Sustainability
ATTACH;FMTTYPE=image/jpeg:https://newsroom.heb.com/wp-content/uploads/2025/03/Gardopia-Gardens-Spring-Equinox.jpeg
END:VEVENT
END:VCALENDAR