BEGIN:VCALENDAR
VERSION:2.0
PRODID:-//H-E-B Newsroom - ECPv6.15.18//NONSGML v1.0//EN
CALSCALE:GREGORIAN
METHOD:PUBLISH
X-WR-CALNAME:H-E-B Newsroom
X-ORIGINAL-URL:https://newsroom.heb.com
X-WR-CALDESC:Events for H-E-B Newsroom
REFRESH-INTERVAL;VALUE=DURATION:PT1H
X-Robots-Tag:noindex
X-PUBLISHED-TTL:PT1H
BEGIN:VTIMEZONE
TZID:America/Chicago
BEGIN:DAYLIGHT
TZOFFSETFROM:-0600
TZOFFSETTO:-0500
TZNAME:CDT
DTSTART:20240310T080000
END:DAYLIGHT
BEGIN:STANDARD
TZOFFSETFROM:-0500
TZOFFSETTO:-0600
TZNAME:CST
DTSTART:20241103T070000
END:STANDARD
BEGIN:DAYLIGHT
TZOFFSETFROM:-0600
TZOFFSETTO:-0500
TZNAME:CDT
DTSTART:20250309T080000
END:DAYLIGHT
BEGIN:STANDARD
TZOFFSETFROM:-0500
TZOFFSETTO:-0600
TZNAME:CST
DTSTART:20251102T070000
END:STANDARD
BEGIN:DAYLIGHT
TZOFFSETFROM:-0600
TZOFFSETTO:-0500
TZNAME:CDT
DTSTART:20260308T080000
END:DAYLIGHT
BEGIN:STANDARD
TZOFFSETFROM:-0500
TZOFFSETTO:-0600
TZNAME:CST
DTSTART:20261101T070000
END:STANDARD
END:VTIMEZONE
BEGIN:VEVENT
DTSTART;TZID=America/Chicago:20250323T100000
DTEND;TZID=America/Chicago:20250323T140000
DTSTAMP:20260423T103906
CREATED:20250129T204209Z
LAST-MODIFIED:20250129T204229Z
UID:15616-1742724000-1742738400@newsroom.heb.com
SUMMARY:YMCA: Siclovia - (San Antonio)
DESCRIPTION:What is Síclovía?\nSíclovía is a free\, annual event organized by the YMCA of Greater San Antonio that turns city streets into a safe place for exercise and play. The family-friendly event encourages residents and visitors to get out\, get active\, and explore their city through car-free streets. The Y accomplishes this by activating parks\, bringing exposure to local businesses\, and inviting community organizations. Participants can enjoy walking\, biking\, exercise classes\, activities for youth\, treats for their pets\, food trucks\, and more. The event transitioned from a bi-annual to an annual Spring event in 2024. \nSince 2011\, we have encouraged residents and visitors to get out\, be active\, and explore their city through car-free streets. To date\, 1\,098\,632 individuals have participated in this event. \nWe look forward to the next Síclovía event\, which will take place on Sunday\, March 23\, celebrating our 23rd event. Síclovía has always been a treasured tradition for fostering community spirit and bringing our community together to celebrate health\, wellness\, and togetherness. This free community event has provided a safe space for individuals of all ages to participate in exercise and play. \nAs we progress with our plans\, we will keep you informed about important dates\, activities\, and opportunities for involvement. We encourage you to stay connected with our YMCA social media platforms to receive the latest updates. \nLearn more
URL:https://newsroom.heb.com/event/ymca-siclovia-san-antonio/
CATEGORIES:Education & Arts,Main
ATTACH;FMTTYPE=image/webp:https://newsroom.heb.com/wp-content/uploads/2025/01/siclovia_hp.jpg.webp
END:VEVENT
BEGIN:VEVENT
DTSTART;TZID=America/Chicago:20250323T120000
DTEND;TZID=America/Chicago:20250323T140000
DTSTAMP:20260423T103906
CREATED:20250318T153552Z
LAST-MODIFIED:20250318T153552Z
UID:15817-1742731200-1742738400@newsroom.heb.com
SUMMARY:Gardopia Gardens: Volunteer Day at Los Patios - (San Antonio)
DESCRIPTION:Join us for a day of giving back to the community. Come to Los Patios at 2015 NE Interstate 410 Loop and help make a difference in the lives of those in need. Whether you’re a seasoned volunteer or new to community service\, there’s a place for you here. Together\, we can make a positive impact and spread joy to those around us. Don’t miss out on this opportunity to give back and make a difference! \nLearn more \n 
URL:https://newsroom.heb.com/event/gardopia-gardens-volunteer-day-at-los-patios-san-antonio/
CATEGORIES:Education & Arts,Main,Sustainability
ATTACH;FMTTYPE=image/jpeg:https://newsroom.heb.com/wp-content/uploads/2025/03/Volunteer-Day-at-Los-Patios.jpg
END:VEVENT
BEGIN:VEVENT
DTSTART;TZID=America/Chicago:20250323T120000
DTEND;TZID=America/Chicago:20250323T160000
DTSTAMP:20260423T103906
CREATED:20250225T195059Z
LAST-MODIFIED:20250225T195059Z
UID:15731-1742731200-1742745600@newsroom.heb.com
SUMMARY:Kitchen Campus: Paella Challenge - (San Antonio)
DESCRIPTION:When the quintessential dish of Spain and culinary all-stars from across the country and Mexico come together\, you know it’s time for the return of the 15th Annual Pacifico Paella Challenge and 13th Annual H-E-B High School Challenge hosted by Chef Johnny Hernandez\, benefitting Kitchen Campus. \nThis March 23th\, join fellow epicureans for a beautiful afternoon featuring distinguished chefs from San Antonio\, across the United States and Mexico\, live entertainment\, wines from Spain\, and sangria on the grounds of Mission County Park from 12:00 p.m. – 4:00 p.m. Watch as chefs go head-to-head in a competition to create the most impressive and tasty paella dishes cooked right before your eyes. Local high school teams will also compete in the H-E-B High School Paella Challenge for an opportunity to win a trip to the Culinary Institute of America in New York City! All proceeds will benefit Kitchen Campus programming. \nVisit www.paellachallenge.com for more event information\, participating chefs\, and a photo gallery from last year’s event. This event does take place RAIN OR SHINE and is outdoors\, therefore please come prepared. On-site parking is available and is free of charge. \nAs this is a fundraiser for our culinary youth program\, there are no refunds on ticket sales. ***Children 6 years of age and younger get free admission and do not require a ticket.*** \n\nGeneral Admission 21 and Older Ticket Information:\n\nThe ticket price is ALL-INCLUSIVE which includes: \nEntry into the event \nSampling of over 40 amazing Paellas and other Chef prepared appetizers. \nBeverages (Beer\, Wine\, Sangria\, Sodas & Water) \nEntertainment for the day \n\nGeneral Admission under 21 Ticket Information:\n\nEntry into the event \nSampling of over 40 amazing Paellas and other Chef prepared appetizers \nBeverages (Sodas & Water) \nEntertainment for the day \n\nVip Ticket Experience (Herradura VIP Margarita & Paella Tent):\n\nInterested in elevating your Paella Challenge Experience? Upgrade to a VIP ticket which includes access to the benefits below! \nAccess to Chef Johnny’s Exclusive Paella Station \nSampling of over 40 amazing Paellas and other Chef prepared appetizers \nLive Entertainment \nExclusive beverages \nAccess to La Gloria Specialty Margarita Bar \nTented lounge area with private seating \nNo-wait VIP entrance \nThis event does sell-out and when tickets are gone\, they’re gone! *** ID must be presented at check in for guest 21 and older *** \nAbout Kitchen Campus: \nKitchen Campus is a non-profit organization established in 2014 by Chef Johnny Hernandez. The organization’s mission is to connect today’s youth to culinary opportunities through education and advocacy. \nKitchen Campus is an out-of-school program that provides students from high school with an opportunity to learn about food\, nutrition\, and cooking while exploring careers in the culinary industry. Activities include hands-on cooking classes\, lectures\, field trips\, and guest chef workshops. Kitchen Campus works on behalf of local students who may not otherwise have the funds\, access to resources\, or the mentors necessary to help guide them to financial success through the culinary arts. \nThe vision of Kitchen Campus is financial success through culinary arts. Program graduates will thrive—prepared to succeed with basic cooking skills and nutrition education\, knowledge of the food industry\, and leadership experience that empowers them to make a difference in their community.
URL:https://newsroom.heb.com/event/kitchen-campus-paella-challenge-san-antonio/
CATEGORIES:Education & Arts,Main
ATTACH;FMTTYPE=image/png:https://newsroom.heb.com/wp-content/uploads/2025/02/Paella-Challenge-logo.png
END:VEVENT
END:VCALENDAR