BEGIN:VCALENDAR
VERSION:2.0
PRODID:-//H-E-B Newsroom - ECPv6.15.18//NONSGML v1.0//EN
CALSCALE:GREGORIAN
METHOD:PUBLISH
X-WR-CALNAME:H-E-B Newsroom
X-ORIGINAL-URL:https://newsroom.heb.com
X-WR-CALDESC:Events for H-E-B Newsroom
REFRESH-INTERVAL;VALUE=DURATION:PT1H
X-Robots-Tag:noindex
X-PUBLISHED-TTL:PT1H
BEGIN:VTIMEZONE
TZID:America/Chicago
BEGIN:DAYLIGHT
TZOFFSETFROM:-0600
TZOFFSETTO:-0500
TZNAME:CDT
DTSTART:20240310T080000
END:DAYLIGHT
BEGIN:STANDARD
TZOFFSETFROM:-0500
TZOFFSETTO:-0600
TZNAME:CST
DTSTART:20241103T070000
END:STANDARD
BEGIN:DAYLIGHT
TZOFFSETFROM:-0600
TZOFFSETTO:-0500
TZNAME:CDT
DTSTART:20250309T080000
END:DAYLIGHT
BEGIN:STANDARD
TZOFFSETFROM:-0500
TZOFFSETTO:-0600
TZNAME:CST
DTSTART:20251102T070000
END:STANDARD
BEGIN:DAYLIGHT
TZOFFSETFROM:-0600
TZOFFSETTO:-0500
TZNAME:CDT
DTSTART:20260308T080000
END:DAYLIGHT
BEGIN:STANDARD
TZOFFSETFROM:-0500
TZOFFSETTO:-0600
TZNAME:CST
DTSTART:20261101T070000
END:STANDARD
END:VTIMEZONE
BEGIN:VEVENT
DTSTART;VALUE=DATE:20250327
DTEND;VALUE=DATE:20250331
DTSTAMP:20260421T075354
CREATED:20250318T152012Z
LAST-MODIFIED:20250318T152025Z
UID:15815-1743033600-1743379199@newsroom.heb.com
SUMMARY:The Wall That Heals: Vietnam Veterans Memorial Replica & Mobile Education Center - (Corpus Christi)
DESCRIPTION:Since its unveiling on Veterans Day 1996\, The Wall That Heals\, a three-quarter scale replica of the Vietnam Veterans Memorial in Washington\, D.C.\, has visited nearly 700 communities across the United States\, bringing the memorial’s healing legacy to millions. \nThis exhibit brings the three-quarter scale replica of the Vietnam Veterans Memorial located in Washington\, D.C. and mobile education center to the Coastal Bend. \nThe Wall That Heals will be displayed at the Veterans Memorial High School Soccer Field. \n• Open 24 hours\, starting Thursday\, March 27th \n• Closes at 2 pm on Sunday\, March 30th \n• Free to the public \nThis traveling exhibit\, including a mobile Education Center\, enables veterans and their families to experience the memorial’s comfort and peace within their own communities\, fostering the healing process for many who have struggled to confront their memories. \nThe Wall That Heals exhibit was on the road for nearly 18\,000 miles and visited 32 communities across the country during its 2023 season. The memorial was escorted by nearly 3\,000 vehicles into those communities\, spreading The Wall’s healing legacy to more than 222\,000 visitors. Guided tours of the exhibit were provided to more than 21\,000 visitors. \nThe Wall That Heals will be open 24 hours a day beginning March 27\, until closing Sunday\, March 30\, 2025. This event is free and open to all. \nIt is our sincere honor for our community to be chosen as a host site for The Wall That Heals. This visit allows us to share in the memorial’s profound legacy and honor those who served. \nFree Admission\nLocation:\n3750 Cimarron Blvd. Corpus Christi\, TX 78414\nLearn more
URL:https://newsroom.heb.com/event/the-wall-that-heals-vietnam-veterans-memorial-replica-mobile-education-center-corpus-christi/
CATEGORIES:Main,Military
ATTACH;FMTTYPE=image/jpeg:https://newsroom.heb.com/wp-content/uploads/2025/03/TWTH-CC-flyer-1-scaled.jpg
END:VEVENT
BEGIN:VEVENT
DTSTART;VALUE=DATE:20250329
DTEND;VALUE=DATE:20250330
DTSTAMP:20260421T075354
CREATED:20250225T200522Z
LAST-MODIFIED:20250225T200522Z
UID:15733-1743206400-1743292799@newsroom.heb.com
SUMMARY:Bluebonnet Festival & Parade - (Natalia)
DESCRIPTION:Saturday March 29\, 2025\nVendors OPEN 9 am ~ Parade 11 am ~ *Lineup at 9 am \nLIVE MUSIC ~ FOOD ~ VENDORS \nNatalia Veteran’s Memorial Library\n501 3rd St.\nP.O. Box 270\nNatalia\, Texas 78059\n210-213-1990 \nWebsite: CLICK HERE \nEmail: natalialibraryfoundation@gmail.com\nAmy Edge\, Librarian \nFor Parade Participation Application\, Vendor Application or entry into activities/performances of the Bluebonnet Festival\, are available on the Natalia Veteran’s Memorial Library website. \n**WE ARE CURRENTLY STILL OPEN FOR VENDORS AND FOOD VENDORS!! BOOK ASAP TO HOLD YOUR SPOT!!!
URL:https://newsroom.heb.com/event/bluebonnet-festival-parade-natalia/
CATEGORIES:Main
ATTACH;FMTTYPE=image/png:https://newsroom.heb.com/wp-content/uploads/2025/02/Bluebonnet-Festival.png
END:VEVENT
BEGIN:VEVENT
DTSTART;VALUE=DATE:20250329
DTEND;VALUE=DATE:20250330
DTSTAMP:20260421T075354
CREATED:20250225T203140Z
LAST-MODIFIED:20250225T204548Z
UID:15735-1743206400-1743292799@newsroom.heb.com
SUMMARY:Greater New Braunfels Art Council: Photography Contest and Exhibition
DESCRIPTION:The Greater New Braunfels Arts Council\, in collaboration with the New Braunfels Photography Club and Schertz Photography\, is proud to present the Annual Youth Photography Contest\, showcasing the creativity and talent of high school students from the surrounding areas. This exciting contest invites young photographers to submit their best work\, ranging from breathtaking landscapes to striking portraits and dynamic visual compositions. \nNow in its 4th year\, the contest has become a key event in our community\, providing a platform for high school students to share their artistic visions while gaining recognition for their unique perspectives. Whether capturing the beauty of nature\, the energy of everyday life\, or thought-provoking abstract images\, this contest celebrates the power of photography as a medium for personal expression. \nContest Details\n\n\nEligibility: High school students from the surrounding areas \n\n\nCategories: TBD \n\n\nSubmission Deadline: TBD \n\n\nSubmission Guidelines: TBD \n\n\nPrizes: TBD \n\n\nWhy Enter?\nParticipating in the Annual Youth Photography Contest is a great opportunity for high school students to gain exposure\, connect with other young artists\, and have their work showcased in a public exhibition. Winners will have their photographs displayed at a special event and be recognized for their artistic achievements in various categories. This contest not only celebrates young talent but also inspires the next generation of photographers to continue exploring and developing their craft. \nWe encourage all high school students in the surrounding areas to submit their photographs and become part of this inspiring community celebration of youth creativity and visual art. \nBe on the lookout for full contest rules and entry forms.\nLearn more
URL:https://newsroom.heb.com/event/greater-new-braunfels-art-council-photography-contest-and-exhibition/
CATEGORIES:Education & Arts,Main
ATTACH;FMTTYPE=image/png:https://newsroom.heb.com/wp-content/uploads/2025/02/GNBAC-EBlast-Banner-Generic_edited.png
END:VEVENT
BEGIN:VEVENT
DTSTART;TZID=America/Chicago:20250329T120000
DTEND;TZID=America/Chicago:20250329T160000
DTSTAMP:20260421T075354
CREATED:20250129T211031Z
LAST-MODIFIED:20250129T211401Z
UID:15618-1743249600-1743264000@newsroom.heb.com
SUMMARY:The Heritage Museum of the Texas Hill Country: Dinosaur Day - (Canyon Lake)
DESCRIPTION:An amazing educational event for kids & dinosaur lovers of all ages!\nDinosaur Trackway Tours\, Fossil Ridge Tours\, Activities for Kids\, Food\, Local Organizations\, and Thomas Adams\, Chief Curator (Paleontology and Geology) at the Witte Museum will be giving hourly talks. \nTime & Location\n\n\nMar 29\, 2025\, 12:00 PM – 4:00 PM \nThe Heritage Museum\, 4831 FM2673\, Canyon Lake\, TX 78133\, USA \n\n\n\nAbout the Event\n\n\n\nAn amazing educational event for kids & dinosaur lovers of all ages! \n\nDinosaur Trackway Tours\nFossil Ridge Tours\nActivities for Kids\nFood\nLocal Organizations\n\nLearn more
URL:https://newsroom.heb.com/event/the-heritage-museum-of-the-texas-hill-country-dinosaur-day-canyon-lake/
CATEGORIES:Education & Arts,Main
ATTACH;FMTTYPE=image/webp:https://newsroom.heb.com/wp-content/uploads/2025/01/Dinosaurday-heritage-museaum.webp
END:VEVENT
END:VCALENDAR