BEGIN:VCALENDAR
VERSION:2.0
PRODID:-//H-E-B Newsroom - ECPv6.15.18//NONSGML v1.0//EN
CALSCALE:GREGORIAN
METHOD:PUBLISH
X-ORIGINAL-URL:https://newsroom.heb.com
X-WR-CALDESC:Events for H-E-B Newsroom
REFRESH-INTERVAL;VALUE=DURATION:PT1H
X-Robots-Tag:noindex
X-PUBLISHED-TTL:PT1H
BEGIN:VTIMEZONE
TZID:America/Chicago
BEGIN:DAYLIGHT
TZOFFSETFROM:-0600
TZOFFSETTO:-0500
TZNAME:CDT
DTSTART:20240310T080000
END:DAYLIGHT
BEGIN:STANDARD
TZOFFSETFROM:-0500
TZOFFSETTO:-0600
TZNAME:CST
DTSTART:20241103T070000
END:STANDARD
BEGIN:DAYLIGHT
TZOFFSETFROM:-0600
TZOFFSETTO:-0500
TZNAME:CDT
DTSTART:20250309T080000
END:DAYLIGHT
BEGIN:STANDARD
TZOFFSETFROM:-0500
TZOFFSETTO:-0600
TZNAME:CST
DTSTART:20251102T070000
END:STANDARD
BEGIN:DAYLIGHT
TZOFFSETFROM:-0600
TZOFFSETTO:-0500
TZNAME:CDT
DTSTART:20260308T080000
END:DAYLIGHT
BEGIN:STANDARD
TZOFFSETFROM:-0500
TZOFFSETTO:-0600
TZNAME:CST
DTSTART:20261101T070000
END:STANDARD
END:VTIMEZONE
BEGIN:VEVENT
DTSTART;VALUE=DATE:20250409
DTEND;VALUE=DATE:20250414
DTSTAMP:20260425T110505
CREATED:20250227T183735Z
LAST-MODIFIED:20250227T183735Z
UID:15773-1744156800-1744588799@newsroom.heb.com
SUMMARY:Indie Meme Org: Austin Film Society Cinema
DESCRIPTION:Festival offers a dynamic platform for filmmakers to tell untold stories that resonate across borders. Attendees have the rare opportunity to engage directly with award-winning filmmakers and actors in candid post-screening dialogues\, exploring themes\, perspectives\, and creative processes. The festival celebrates the universality of human experience\, showing audiences how communities around the world confront challenges and devise solutions. It fosters a sense of empathy\, shared humanity\, and inspiration\, while enriching Austin’s cultural landscape.\n\n\nLearn more
URL:https://newsroom.heb.com/event/indie-meme-org-austin-film-society-cinema/
CATEGORIES:Education & Arts,Main
ATTACH;FMTTYPE=image/jpeg:https://newsroom.heb.com/wp-content/uploads/2025/02/Austin-Film-Festival-AFS.jpg
END:VEVENT
BEGIN:VEVENT
DTSTART;VALUE=DATE:20250412
DTEND;VALUE=DATE:20250413
DTSTAMP:20260425T110505
CREATED:20250402T165943Z
LAST-MODIFIED:20250402T165943Z
UID:15967-1744416000-1744502399@newsroom.heb.com
SUMMARY:40th Annual Keep Austin Beautiful Day
DESCRIPTION:Each April\, in honor of Earth Month\, Keep Austin Beautiful hosts Keep Austin Beautiful Day\, a city-wide day of service spanning over one hundred sites in all ten city council districts in the greater Austin area. \nDuring Keep Austin Beautiful Day\, thousands of volunteers work together to remove litter\, restore native habitats\, and beautify neighborhoods. On Saturday\, April 12\, join us in caring for the beloved green spaces and waterways that make Austin so special. \nA NOTE ON SAFETY: With all of our volunteer events\, we encourage you to “See and Be Seen!” Be mindful of your fellow volunteers and maintain awareness of your surroundings at all times. Dial 911 in case of emergency. \nLearn more
URL:https://newsroom.heb.com/event/40th-annual-keep-austin-beautiful-day/
CATEGORIES:Main,Sustainability
ATTACH;FMTTYPE=image/png:https://newsroom.heb.com/wp-content/uploads/2025/04/Keepaustinbeautiful.png
END:VEVENT
BEGIN:VEVENT
DTSTART;TZID=America/Chicago:20250412T080000
DTEND;TZID=America/Chicago:20250412T120000
DTSTAMP:20260425T110505
CREATED:20250127T190835Z
LAST-MODIFIED:20250127T192120Z
UID:15569-1744444800-1744459200@newsroom.heb.com
SUMMARY:Pink Diamonds Survivor of Cancer: 3K Walk | Spring Health & Wellness Event - (Dallas)
DESCRIPTION:April 12th\, Spring Health & Wellness Event- 50+ healthcare providers\, 3k Walk\, healthy cooking demonstrations\, line dancing and fresh fruits and vegetables giveaway.\n\nHealth Fair 8-12pm\n3K Walk 7am\nLine Dancing Competition 10am\n\nhttps://pinkdiamondssoc.org/
URL:https://newsroom.heb.com/event/pink-diamonds-survivor-of-cancer-3k-walk-spring-health-wellness-event-dallas/
CATEGORIES:Main
ATTACH;FMTTYPE=image/png:https://newsroom.heb.com/wp-content/uploads/2025/01/HealthWellness-event-2025.png
END:VEVENT
BEGIN:VEVENT
DTSTART;TZID=America/Chicago:20250412T080000
DTEND;TZID=America/Chicago:20250412T120000
DTSTAMP:20260425T110505
CREATED:20250227T182015Z
LAST-MODIFIED:20250227T182015Z
UID:15769-1744444800-1744459200@newsroom.heb.com
SUMMARY:Pink Diamonds Survivors of Cancer: 3K Walk | Spring Health & Wellness Event - (Dallas)
DESCRIPTION:April 12th\, Spring Health & Wellness Event- 50+ healthcare providers\, 3k Walk\, healthy cooking demonstrations\, line dancing and fresh fruits and vegetables giveaway.\n\nHealth Fair 8-12pm\n3K Walk 7am\nLine Dancing Competition 10am\n\nAll activities are free and open to the public. \nLearn more
URL:https://newsroom.heb.com/event/pink-diamonds-survivors-of-cancer-3k-walk-spring-health-wellness-event-dallas/
CATEGORIES:Diversity & Inclusion,Main
ATTACH;FMTTYPE=image/jpeg:https://newsroom.heb.com/wp-content/uploads/2025/02/4ced09_7de79d78e2eb40158e488ae1664fe400mv2.jpg
END:VEVENT
BEGIN:VEVENT
DTSTART;TZID=America/Chicago:20250412T100000
DTEND;TZID=America/Chicago:20250412T160000
DTSTAMP:20260425T110505
CREATED:20250402T171931Z
LAST-MODIFIED:20250402T171931Z
UID:15980-1744452000-1744473600@newsroom.heb.com
SUMMARY:Coastal Bend Bays Foundation: Earth Day Bay Day - (Corpus Christi)
DESCRIPTION:The Coastal Bend Bays Foundation has been hosting Earth Day-Bay Day since 1999 to raise awareness and appreciation of our coastal waterways and habitats\, and to promote environmental stewardship for our Coastal Bend natural resources through family-friendly and hands-on exhibits\, activities and demonstrations. \n\n\nEarth Day-Bay Day is a FREE\, family-friendly community festival filled with interactive educational exhibits and activities\, wild animal shows\, plant give away\, food\, freebies and more. Our goal is to raise awareness about education\, conservation\, participation\, habitat protection\, and career choices here in our Coastal Bend in a fun environment! \nLearn more
URL:https://newsroom.heb.com/event/coastal-bend-bays-foundation-earth-day-bay-day-corpus-christi/
CATEGORIES:Main,Sustainability
ATTACH;FMTTYPE=image/jpeg:https://newsroom.heb.com/wp-content/uploads/2025/04/EDBD-Flyer-2025-1-1.jpg
END:VEVENT
BEGIN:VEVENT
DTSTART;TZID=America/Chicago:20250412T120000
DTEND;TZID=America/Chicago:20250412T180000
DTSTAMP:20260425T110505
CREATED:20250402T170545Z
LAST-MODIFIED:20250402T170621Z
UID:15970-1744459200-1744480800@newsroom.heb.com
SUMMARY:Earth Day Austin: 2025
DESCRIPTION:Earth Day Austin is the largest sustainability event in Central Texas. On April 12\, 2025\, thousands from the Austin Area and beyond will come to learn about conservation and sustainable solutions\, celebrate our love for the environment\, and get connected to the best and most innovative green businesses and organizations. Your business or organization should be right in the center of it. \nWith family and friends\, attendees explore rich\, in-depth programming\, exciting new activities and engaging exhibitions that allow them to discover new connections to the environment and environmental issues. Inspired by their experiences and interactions\, participants are empowered to make new sustainable choices that enhance their lives while helping the planet. \nGETTING TO THE EVENT \nWe have many options for getting to Earth Day while lowering your carbon footprint.\nBiking: \nBike to Earth Day! Join a biking meetup! JUMP has kindly provided bike racks around the HT campus.\nBus: \nThere are several bus stops located around the HT campus. Bus 4\, 21\, 22\, and 320 stop within walking distance of the campus.\nDriving: \nPlease do your part to reduce carbon emissions by avoiding driving to Earth Day. If you must drive to the event\, please consider carpooling. We have limited parking available around the festival grounds.\nAccessibility: \nAccessible Parking is available along 11th Street near the North Entrance to campus\, as well as inside the East Entrance at 9th Street & Chicon.\nLearn more
URL:https://newsroom.heb.com/event/earth-day-austin-2025/
CATEGORIES:Main,Sustainability
ATTACH;FMTTYPE=image/jpeg:https://newsroom.heb.com/wp-content/uploads/2025/04/EDA-2025-LOGO.jpg
END:VEVENT
END:VCALENDAR