BEGIN:VCALENDAR
VERSION:2.0
PRODID:-//H-E-B Newsroom - ECPv6.15.18//NONSGML v1.0//EN
CALSCALE:GREGORIAN
METHOD:PUBLISH
X-ORIGINAL-URL:https://newsroom.heb.com
X-WR-CALDESC:Events for H-E-B Newsroom
REFRESH-INTERVAL;VALUE=DURATION:PT1H
X-Robots-Tag:noindex
X-PUBLISHED-TTL:PT1H
BEGIN:VTIMEZONE
TZID:America/Chicago
BEGIN:DAYLIGHT
TZOFFSETFROM:-0600
TZOFFSETTO:-0500
TZNAME:CDT
DTSTART:20240310T080000
END:DAYLIGHT
BEGIN:STANDARD
TZOFFSETFROM:-0500
TZOFFSETTO:-0600
TZNAME:CST
DTSTART:20241103T070000
END:STANDARD
BEGIN:DAYLIGHT
TZOFFSETFROM:-0600
TZOFFSETTO:-0500
TZNAME:CDT
DTSTART:20250309T080000
END:DAYLIGHT
BEGIN:STANDARD
TZOFFSETFROM:-0500
TZOFFSETTO:-0600
TZNAME:CST
DTSTART:20251102T070000
END:STANDARD
BEGIN:DAYLIGHT
TZOFFSETFROM:-0600
TZOFFSETTO:-0500
TZNAME:CDT
DTSTART:20260308T080000
END:DAYLIGHT
BEGIN:STANDARD
TZOFFSETFROM:-0500
TZOFFSETTO:-0600
TZNAME:CST
DTSTART:20261101T070000
END:STANDARD
END:VTIMEZONE
BEGIN:VEVENT
DTSTART;VALUE=DATE:20250409
DTEND;VALUE=DATE:20250414
DTSTAMP:20260421T192953
CREATED:20250227T183735Z
LAST-MODIFIED:20250227T183735Z
UID:15773-1744156800-1744588799@newsroom.heb.com
SUMMARY:Indie Meme Org: Austin Film Society Cinema
DESCRIPTION:Festival offers a dynamic platform for filmmakers to tell untold stories that resonate across borders. Attendees have the rare opportunity to engage directly with award-winning filmmakers and actors in candid post-screening dialogues\, exploring themes\, perspectives\, and creative processes. The festival celebrates the universality of human experience\, showing audiences how communities around the world confront challenges and devise solutions. It fosters a sense of empathy\, shared humanity\, and inspiration\, while enriching Austin’s cultural landscape.\n\n\nLearn more
URL:https://newsroom.heb.com/event/indie-meme-org-austin-film-society-cinema/
CATEGORIES:Education & Arts,Main
ATTACH;FMTTYPE=image/jpeg:https://newsroom.heb.com/wp-content/uploads/2025/02/Austin-Film-Festival-AFS.jpg
END:VEVENT
BEGIN:VEVENT
DTSTART;VALUE=DATE:20250413
DTEND;VALUE=DATE:20250414
DTSTAMP:20260421T192953
CREATED:20250225T211128Z
LAST-MODIFIED:20250225T212151Z
UID:15742-1744502400-1744588799@newsroom.heb.com
SUMMARY:26th Annual STORM Hill Country MTB Challenge - (Comfort)
DESCRIPTION:The Texas Mountain Bike Racing Association’s (TMBRA) Race #5 of the Trek Texas presents the TMBRA XC MTB State Championship Series comes to our backyard as STORM hosts the Hill Country MTB Challenge at Flat Rock Ranch in Comfort\, TX. This is the largest mountain bike race in the San Antonio area\, with over 350 racers competing in different age\, gender\, and experience-based classes. \nRace Information:\n\nRACE START TIMES\nRACE REGISTRATION\n\nPre-registration (BikeReg) is until Friday\, April 11 at 7:00pm.\nLate Registration (BikeReg)\n\nAfter Friday\, April 11 at 7:00pm – an additional $10 late fee applies for age groups 15+.\nAfter Saturday\, April 12 at 7:00pm – an additional $25 late fee applies (total $35 late fees).\nLate registration closes on Sunday\, April 13 at 6:00am.\n\n\n\n\nVOLUNTEER REGISTRATION\nRACE FLYER\n\nSee the Event Notes section on the BikeReg race registration page.\n\n\nSPONSORS\nMERCHANDISE\nCOURSE MAPS\nLAND ACCESS\n\nEveryone entering the ranch must pay the land use fee for Flat Rock Ranch regardless of racing/non-racing status. Discounts may apply. Visit the Flat Rock Ranch website for more details on pricing for land access\, camping\, and RV sites.\n\n\nRACE RESULTS | SERIES RESULTS\nRACE PHOTOS (TBA)\n\n\nLearn more \n 
URL:https://newsroom.heb.com/event/26th-annual-storm-hill-country-mtb-challenge-comfort/
CATEGORIES:Education & Arts,Main
ATTACH;FMTTYPE=image/jpeg:https://newsroom.heb.com/wp-content/uploads/2025/02/BicycleWorks-Texas-scaled.jpg
END:VEVENT
BEGIN:VEVENT
DTSTART;TZID=America/Chicago:20250413T120000
DTEND;TZID=America/Chicago:20250413T150000
DTSTAMP:20260421T192953
CREATED:20250407T154545Z
LAST-MODIFIED:20250407T154545Z
UID:16006-1744545600-1744556400@newsroom.heb.com
SUMMARY:Guardian House: Egg Hunt Event - (San Antonio)
DESCRIPTION:BUNNY PHOTOS\n1:00 P.M. \nEGG HUNT\n2:30 P.M. \n\nSNACKS & REFRESHMENTS\nCRAFT CORNER\nCOMMUNITY RESOURCE FAIR\nFACE PAINTING\n\nWhen:\nSUNDAY\, APRIL 13\, 2025\n12:00 – 3:00 P.M.\nSAN PEDRO PARK | 2200 N FLORES SAN ANTONIO TX 78212  \nLearn more
URL:https://newsroom.heb.com/event/guardian-house-egg-hunt-event-san-antonio/
CATEGORIES:Main
ATTACH;FMTTYPE=image/png:https://newsroom.heb.com/wp-content/uploads/2025/04/Guardian-House-Spring-Egg-Hunt.png
END:VEVENT
END:VCALENDAR