BEGIN:VCALENDAR
VERSION:2.0
PRODID:-//H-E-B Newsroom - ECPv6.15.18//NONSGML v1.0//EN
CALSCALE:GREGORIAN
METHOD:PUBLISH
X-WR-CALNAME:H-E-B Newsroom
X-ORIGINAL-URL:https://newsroom.heb.com
X-WR-CALDESC:Events for H-E-B Newsroom
REFRESH-INTERVAL;VALUE=DURATION:PT1H
X-Robots-Tag:noindex
X-PUBLISHED-TTL:PT1H
BEGIN:VTIMEZONE
TZID:America/Chicago
BEGIN:DAYLIGHT
TZOFFSETFROM:-0600
TZOFFSETTO:-0500
TZNAME:CDT
DTSTART:20240310T080000
END:DAYLIGHT
BEGIN:STANDARD
TZOFFSETFROM:-0500
TZOFFSETTO:-0600
TZNAME:CST
DTSTART:20241103T070000
END:STANDARD
BEGIN:DAYLIGHT
TZOFFSETFROM:-0600
TZOFFSETTO:-0500
TZNAME:CDT
DTSTART:20250309T080000
END:DAYLIGHT
BEGIN:STANDARD
TZOFFSETFROM:-0500
TZOFFSETTO:-0600
TZNAME:CST
DTSTART:20251102T070000
END:STANDARD
BEGIN:DAYLIGHT
TZOFFSETFROM:-0600
TZOFFSETTO:-0500
TZNAME:CDT
DTSTART:20260308T080000
END:DAYLIGHT
BEGIN:STANDARD
TZOFFSETFROM:-0500
TZOFFSETTO:-0600
TZNAME:CST
DTSTART:20261101T070000
END:STANDARD
END:VTIMEZONE
BEGIN:VEVENT
DTSTART;TZID=America/Chicago:20250415T080000
DTEND;TZID=America/Chicago:20250415T170000
DTSTAMP:20260421T094146
CREATED:20250415T163727Z
LAST-MODIFIED:20250415T163727Z
UID:16054-1744704000-1744736400@newsroom.heb.com
SUMMARY:2025 iFest USA - (Houston)
DESCRIPTION:The International Festival of the United States of America\, known as iFest USA\, stands as the premier celebration of multiculturalism and diversity. It proudly hosts the renowned Joe Sample Soundstage and leads the National Celebration of The United Nations World Day for Cultural Diversity for Dialogue and Development alongside UNESCO. This vibrant festival serves as a catalyst for learning and exchanging information in the spirit of peace\, love\, and friendship. Renowned for its global reach\, iFEST USA stands as a pinnacle project promoting world geography\, traditions\, and cultures. Dedicated to nurturing understanding worldwide\, it provides a dynamic platform to share cultural legacies among a diverse global audience. Set in Houston\, Texas\, one of the nation’s most ethnically diverse regions\, this festival annually unites thousands of local\, national\, and international enthusiasts. Through exceptional exhibits and performances\, it showcases the rich tapestry of cultures and traditions represented by individuals from around the globe. \nThis vibrant event features a special AAPI Heritage Month Celebration honoring the history and contributions of the AAPI community\, a UNESCO Celebration spotlighting global efforts to preserve cultural heritage\, and this year’s Spotlight Country—Australia—which offers an immersive experience of its traditions\, music\, and cuisine. Community members and attendees who engage with iFest USA help nurture cultural diversity and foster educational dialogue\, contributing to a day of enriching cultural unity and celebration. \nLearn more
URL:https://newsroom.heb.com/event/2025-ifest-usa-houston/
CATEGORIES:Diversity & Inclusion,Main
ATTACH;FMTTYPE=image/png:https://newsroom.heb.com/wp-content/uploads/2025/04/ifest-USA.png
END:VEVENT
END:VCALENDAR