BEGIN:VCALENDAR
VERSION:2.0
PRODID:-//H-E-B Newsroom - ECPv6.15.18//NONSGML v1.0//EN
CALSCALE:GREGORIAN
METHOD:PUBLISH
X-WR-CALNAME:H-E-B Newsroom
X-ORIGINAL-URL:https://newsroom.heb.com
X-WR-CALDESC:Events for H-E-B Newsroom
REFRESH-INTERVAL;VALUE=DURATION:PT1H
X-Robots-Tag:noindex
X-PUBLISHED-TTL:PT1H
BEGIN:VTIMEZONE
TZID:America/Chicago
BEGIN:DAYLIGHT
TZOFFSETFROM:-0600
TZOFFSETTO:-0500
TZNAME:CDT
DTSTART:20240310T080000
END:DAYLIGHT
BEGIN:STANDARD
TZOFFSETFROM:-0500
TZOFFSETTO:-0600
TZNAME:CST
DTSTART:20241103T070000
END:STANDARD
BEGIN:DAYLIGHT
TZOFFSETFROM:-0600
TZOFFSETTO:-0500
TZNAME:CDT
DTSTART:20250309T080000
END:DAYLIGHT
BEGIN:STANDARD
TZOFFSETFROM:-0500
TZOFFSETTO:-0600
TZNAME:CST
DTSTART:20251102T070000
END:STANDARD
BEGIN:DAYLIGHT
TZOFFSETFROM:-0600
TZOFFSETTO:-0500
TZNAME:CDT
DTSTART:20260308T080000
END:DAYLIGHT
BEGIN:STANDARD
TZOFFSETFROM:-0500
TZOFFSETTO:-0600
TZNAME:CST
DTSTART:20261101T070000
END:STANDARD
END:VTIMEZONE
BEGIN:VEVENT
DTSTART;VALUE=DATE:20250425
DTEND;VALUE=DATE:20250427
DTSTAMP:20260421T093143
CREATED:20250402T171051Z
LAST-MODIFIED:20250402T171513Z
UID:15974-1745539200-1745711999@newsroom.heb.com
SUMMARY:The Trail Conservancy: Celebrate Earth Day The Trail Way - (Austin)
DESCRIPTION:Earth Week is an exciting time on the Trail and double the fun with back-to-back big events! Join us and the Rowing Dock on Friday\, April 25\, 2025\, for Austin’s largest land and lake Earth Day clean up. Then\, relax and celebrate the beauty of the Butler Trail at TTC’s Earth Day Jubilee on April 26\, 2025. Enjoy our biggest free-to-attend event featuring workshops by community partners\, resources\, unique earth-friendly vendors\, food and beverages\, and family-friendly entertainment. \nMore Info \n 
URL:https://newsroom.heb.com/event/the-trail-conservancy-celebrate-earth-day-the-trail-way-austin/
CATEGORIES:Main,Sustainability
ATTACH;FMTTYPE=image/jpeg:https://newsroom.heb.com/wp-content/uploads/2025/04/Trail-Conservancy-Logo.jpg
END:VEVENT
END:VCALENDAR