BEGIN:VCALENDAR
VERSION:2.0
PRODID:-//H-E-B Newsroom - ECPv6.15.18//NONSGML v1.0//EN
CALSCALE:GREGORIAN
METHOD:PUBLISH
X-ORIGINAL-URL:https://newsroom.heb.com
X-WR-CALDESC:Events for H-E-B Newsroom
REFRESH-INTERVAL;VALUE=DURATION:PT1H
X-Robots-Tag:noindex
X-PUBLISHED-TTL:PT1H
BEGIN:VTIMEZONE
TZID:America/Chicago
BEGIN:DAYLIGHT
TZOFFSETFROM:-0600
TZOFFSETTO:-0500
TZNAME:CDT
DTSTART:20240310T080000
END:DAYLIGHT
BEGIN:STANDARD
TZOFFSETFROM:-0500
TZOFFSETTO:-0600
TZNAME:CST
DTSTART:20241103T070000
END:STANDARD
BEGIN:DAYLIGHT
TZOFFSETFROM:-0600
TZOFFSETTO:-0500
TZNAME:CDT
DTSTART:20250309T080000
END:DAYLIGHT
BEGIN:STANDARD
TZOFFSETFROM:-0500
TZOFFSETTO:-0600
TZNAME:CST
DTSTART:20251102T070000
END:STANDARD
BEGIN:DAYLIGHT
TZOFFSETFROM:-0600
TZOFFSETTO:-0500
TZNAME:CDT
DTSTART:20260308T080000
END:DAYLIGHT
BEGIN:STANDARD
TZOFFSETFROM:-0500
TZOFFSETTO:-0600
TZNAME:CST
DTSTART:20261101T070000
END:STANDARD
END:VTIMEZONE
BEGIN:VEVENT
DTSTART;TZID=America/Chicago:20250510T110000
DTEND;TZID=America/Chicago:20250510T170000
DTSTAMP:20260425T102910
CREATED:20250226T173039Z
LAST-MODIFIED:20250226T173429Z
UID:15755-1746874800-1746896400@newsroom.heb.com
SUMMARY:Art for Autism: Art Fair - (San Antonio)
DESCRIPTION:Learn more
URL:https://newsroom.heb.com/event/art-for-autism-art-fair-san-antonio/
CATEGORIES:Diversity & Inclusion,Education & Arts,Main
ATTACH;FMTTYPE=image/png:https://newsroom.heb.com/wp-content/uploads/2025/02/art-for-autism-2025-web.png
END:VEVENT
BEGIN:VEVENT
DTSTART;TZID=America/Chicago:20250510T193000
DTEND;TZID=America/Chicago:20250510T200000
DTSTAMP:20260425T102910
CREATED:20250403T185456Z
LAST-MODIFIED:20250403T185456Z
UID:16001-1746905400-1746907200@newsroom.heb.com
SUMMARY:Conspirare Sings All Night Vigil - (Austin)
DESCRIPTION:Experience an exhilarating evening of 100 voices a cappella singing Rachmaninoff’s profoundly moving All-Night Vigil. Performed by the Conspirare Symphonic Choir with world-renowned basso profundo Glenn Miller\, enjoy hearing the full range of the human voice in the reverberant mid-century St. Martin’s. \n\n\n\n\nRachmaninoff’s profoundly moving and iconic  All Night Vigil showcases the full range of the human voice. Experience the power of 100 voices a cappella.  Performed by the Conspirare Symphonic Choir with world-renowned basso profundo Glenn Miller. \n\n\n\n\n\n\n\n\nTicket prices:\nHella Circle: $25 – $50\nLearn more about Hella Circle. \nGeneral Public: $30 – $60 \nStudents: $10 \n\n\n\n\nLearn more
URL:https://newsroom.heb.com/event/conspirare-sings-all-night-vigil-austin-2/
CATEGORIES:Education & Arts,Main
ATTACH;FMTTYPE=image/jpeg:https://newsroom.heb.com/wp-content/uploads/2024/04/conspire-hero.jpg
END:VEVENT
END:VCALENDAR