BEGIN:VCALENDAR
VERSION:2.0
PRODID:-//H-E-B Newsroom - ECPv6.15.18//NONSGML v1.0//EN
CALSCALE:GREGORIAN
METHOD:PUBLISH
X-WR-CALNAME:H-E-B Newsroom
X-ORIGINAL-URL:https://newsroom.heb.com
X-WR-CALDESC:Events for H-E-B Newsroom
REFRESH-INTERVAL;VALUE=DURATION:PT1H
X-Robots-Tag:noindex
X-PUBLISHED-TTL:PT1H
BEGIN:VTIMEZONE
TZID:America/Chicago
BEGIN:DAYLIGHT
TZOFFSETFROM:-0600
TZOFFSETTO:-0500
TZNAME:CDT
DTSTART:20250309T080000
END:DAYLIGHT
BEGIN:STANDARD
TZOFFSETFROM:-0500
TZOFFSETTO:-0600
TZNAME:CST
DTSTART:20251102T070000
END:STANDARD
BEGIN:DAYLIGHT
TZOFFSETFROM:-0600
TZOFFSETTO:-0500
TZNAME:CDT
DTSTART:20260308T080000
END:DAYLIGHT
BEGIN:STANDARD
TZOFFSETFROM:-0500
TZOFFSETTO:-0600
TZNAME:CST
DTSTART:20261101T070000
END:STANDARD
BEGIN:DAYLIGHT
TZOFFSETFROM:-0600
TZOFFSETTO:-0500
TZNAME:CDT
DTSTART:20270314T080000
END:DAYLIGHT
BEGIN:STANDARD
TZOFFSETFROM:-0500
TZOFFSETTO:-0600
TZNAME:CST
DTSTART:20271107T070000
END:STANDARD
END:VTIMEZONE
BEGIN:VEVENT
DTSTART;TZID=America/Chicago:20260411T100000
DTEND;TZID=America/Chicago:20260411T150000
DTSTAMP:20260421T201536
CREATED:20260415T203312Z
LAST-MODIFIED:20260415T203312Z
UID:18485-1775901600-1775919600@newsroom.heb.com
SUMMARY:McKinney Falls State Park | 50th Anniversary Celebration: How2Recycle Sorting Experience - (Austin)
DESCRIPTION:How2Recycle Sorting Experience with H-E-B’s Our Texas\, Our Future.  \nLocation: \nMcKinney Falls State Park – 5808 McKinney Falls Parkway\, Austin\, TX 78744
URL:https://newsroom.heb.com/event/mckinney-falls-state-park-50th-anniversary-celebration-how2recycle-sorting-experience-austin/
CATEGORIES:Sustainability
END:VEVENT
BEGIN:VEVENT
DTSTART;TZID=America/Chicago:20260411T110000
DTEND;TZID=America/Chicago:20260411T123000
DTSTAMP:20260421T201536
CREATED:20260415T203527Z
LAST-MODIFIED:20260415T203527Z
UID:18486-1775905200-1775910600@newsroom.heb.com
SUMMARY:H-E-B and TreeFolks Mulch Giveaway - (Austin)
DESCRIPTION:Time to mulch your trees this season!\nH-E-B and Treefolks are giving away free bags of mulch to residents. \nLocation:\nH-E-B #31: 8801 S. Congress
URL:https://newsroom.heb.com/event/h-e-b-and-treefolks-mulch-giveaway-austin/
CATEGORIES:Sustainability
END:VEVENT
END:VCALENDAR